FILENAME: O4411109.NWS.789302.tif
QUADRANGLE_NAME: EUREKA BASIN
QUADRANT: NW
WEST_LONGITUDE: -112 0 0.00000
EAST_LONGITUDE: -111 56 15.00000
NORTH_LATITUDE: 44 52 30.00000
SOUTH_LATITUDE: 44 48 45.00000
PRODUCTION_DATE: 1997 11 21
RASTER_ORDER: LEFT_RIGHT/TOP_BOTTOM
BAND_ORGANIZATION: SINGLE FILE
BAND_CONTENT: BLACK&WHITE
BAND_CONTENT: UNDEFINED
BAND_CONTENT: UNDEFINED
BITS_PER_PIXEL: 8
SAMPLES_AND_LINES: 5686 7610
HORIZONTAL_DATUM: NAD83
HORIZONTAL_COORDINATE_SYSTEM: UTM
COORDINATE_ZONE: 12
HORIZONTAL_UNITS: METERS
HORIZONTAL_RESOLUTION: 1.00000
SECONDARY_HORIZONTAL_DATUM: NAD27
XY_ORIGIN: 420564.19300 4969850.49800
SECONDARY_XY_ORIGIN: 420625.88100 4969641.91700
NATION: US
STATE: MT
NW_QUAD_CORNER_XY: 421013.49800 4969550.99800
NE_QUAD_CORNER_XY: 425950.15700 4969492.10000
SE_QUAD_CORNERY_XY: 425870.04100 4962549.32600
SW_QUAD_CORNER_XY: 420928.04000 4962608.22300
SECONDARY_NW_QUAD_XY: 421011.17300 4969333.93400
SECONDARY_NE_QUAD_XY: 425947.97700 4969275.03400
SECONDARY_SE_QUAD_XY: 425867.86200 4962332.31800
SECONDARY_SW_QUAD_XY: 420925.71600 4962391.21700
RMSE_XY: 3.40000
IMAGE_SOURCE: BLACK AND WHITE FILM
SOURCE_IMAGE_ID: NAPP 8376 144
SOURCE_IMAGE_DATE: 1995 8 15
SOURCE_DEM_DATE: 1997 11 21
AGENCY: WESTERN MAPPING CENTER (WMC)
PRODUCER: NIES MAPPING GROUP
PRODUCTION_SYSTEM: INTERGRAPH- ISPM,ISIR
COMPRESSION: UNDEFINED
STANDARD_VERSION: 1996 12
METADATA_DATE: 1998 2 5
DATA_FILE_SIZE: 43276146
BYTE_COUNT: 5686
