FILENAME: O4411109.SES.789303.tif
QUADRANGLE_NAME: EUREKA BASIN
QUADRANT: SE
WEST_LONGITUDE: -111 56 15.00000
EAST_LONGITUDE: -111 52 30.00000
NORTH_LATITUDE: 44 48 45.00000
SOUTH_LATITUDE: 44 45 0.00000
PRODUCTION_DATE: 1997 11 21
RASTER_ORDER: LEFT_RIGHT/TOP_BOTTOM
BAND_ORGANIZATION: SINGLE FILE
BAND_CONTENT: BLACK&WHITE
BAND_CONTENT: UNDEFINED
BAND_CONTENT: UNDEFINED
BITS_PER_PIXEL: 8
SAMPLES_AND_LINES: 5686 7606
HORIZONTAL_DATUM: NAD83
HORIZONTAL_COORDINATE_SYSTEM: UTM
COORDINATE_ZONE: 12
HORIZONTAL_UNITS: METERS
HORIZONTAL_RESOLUTION: 1.00000
SECONDARY_HORIZONTAL_DATUM: NAD27
XY_ORIGIN: 425426.09200 4962848.82600
SECONDARY_XY_ORIGIN: 425488.07200 4962640.37600
NATION: US
STATE: MT
NW_QUAD_CORNER_XY: 425870.04100 4962549.32600
NE_QUAD_CORNER_XY: 430812.04200 4962494.23000
SE_QUAD_CORNERY_XY: 430737.35100 4955551.53200
SW_QUAD_CORNER_XY: 425790.01400 4955606.62700
SECONDARY_NW_QUAD_XY: 425867.86200 4962332.31800
SECONDARY_NE_QUAD_XY: 430810.00800 4962277.22000
SECONDARY_SE_QUAD_XY: 430735.31800 4955334.58100
SECONDARY_SW_QUAD_XY: 425787.83600 4955389.67800
RMSE_XY: 5.10000
IMAGE_SOURCE: BLACK AND WHITE FILM
SOURCE_IMAGE_ID: NAPP 8376 201
SOURCE_IMAGE_DATE: 1995 8 15
SOURCE_DEM_DATE: 1997 11 21
AGENCY: WESTERN MAPPING CENTER (WMC)
PRODUCER: NIES MAPPING GROUP
PRODUCTION_SYSTEM: INTERGRAPH- ISPM,ISIR
COMPRESSION: UNDEFINED
STANDARD_VERSION: 1996 12
METADATA_DATE: 1998 2 5
DATA_FILE_SIZE: 43253402
BYTE_COUNT: 5686
