FILENAME: O4411106.SES.830105.tif
QUADRANGLE_NAME: PIKA POINT
QUADRANT: SE
WEST_LONGITUDE: -111 18 45.00000
EAST_LONGITUDE: -111 15 0.00000
NORTH_LATITUDE: 44 56 15.00000
SOUTH_LATITUDE: 44 52 30.00000
PRODUCTION_DATE: 1997 11 4
RASTER_ORDER: LEFT_RIGHT/TOP_BOTTOM
BAND_ORGANIZATION: SINGLE FILE
BAND_CONTENT: BLACK&WHITE
BAND_CONTENT: UNDEFINED
BAND_CONTENT: UNDEFINED
BITS_PER_PIXEL: 8
SAMPLES_AND_LINES: 5623 7570
HORIZONTAL_DATUM: NAD83
HORIZONTAL_COORDINATE_SYSTEM: UTM
COORDINATE_ZONE: 12
HORIZONTAL_UNITS: METERS
HORIZONTAL_RESOLUTION: 1.00000
SECONDARY_HORIZONTAL_DATUM: NAD27
XY_ORIGIN: 474953.00000 4976355.00000
SECONDARY_XY_ORIGIN: 475014.45200 4976145.73200
NATION: US
NATION: "SCIENCE
STATE: MT
NW_QUAD_CORNER_XY: 475343.45700 4976054.97500
NE_QUAD_CORNER_XY: 480274.76600 4976037.87700
SE_QUAD_CORNERY_XY: 480253.38000 4969095.03300
SW_QUAD_CORNER_XY: 475316.72500 4969112.13100
SECONDARY_NW_QUAD_XY: 475342.73100 4975837.84100
SECONDARY_NE_QUAD_XY: 480274.18500 4975820.74300
SECONDARY_SE_QUAD_XY: 480252.79900 4968877.95600
SECONDARY_SW_QUAD_XY: 475315.99800 4968895.05400
RMSE_XY: 2.50000
IMAGE_SOURCE: BLACK AND WHITE FILM
SOURCE_IMAGE_ID: NAPP 8375 217
SOURCE_IMAGE_DATE: 1995 08 12
SOURCE_IMAGE_ID: NAPP 8375 216
SOURCE_IMAGE_DATE: 1995 08 12
SOURCE_IMAGE_ID: NAPP 8375 118
SOURCE_IMAGE_DATE: 1995 08 12
SOURCE_DEM_DATE: 1980 08 00
AGENCY: WESTERN MAPPING CENTER (WMC)
PRODUCER: UNDEFINED
PRODUCTION_SYSTEM: GIS/MAGIC
COMPRESSION: UNDEFINED
STANDARD_VERSION: 1996 12
METADATA_DATE: 1997 11 13
DATA_FILE_SIZE: 42571733
BYTE_COUNT: 5623
