FILENAME: O4411103.SWS.971423.tif
QUADRANGLE_NAME: GRANITE MOUNTAIN
QUADRANT: SW
WEST_LONGITUDE: -111 45 0.00000
EAST_LONGITUDE: -111 41 15.00000
NORTH_LATITUDE: 44 56 15.00000
SOUTH_LATITUDE: 44 52 30.00000
PRODUCTION_DATE: 1999 2 25
RASTER_ORDER: LEFT_RIGHT/TOP_BOTTOM
BAND_ORGANIZATION: SINGLE FILE
BAND_CONTENT: BLACK&WHITE
BAND_CONTENT: UNDEFINED
BAND_CONTENT: UNDEFINED
BITS_PER_PIXEL: 8
SAMPLES_AND_LINES: 5662 7598
HORIZONTAL_DATUM: NAD83
HORIZONTAL_COORDINATE_SYSTEM: UTM
COORDINATE_ZONE: 12
HORIZONTAL_UNITS: METERS
HORIZONTAL_RESOLUTION: 1.00000
SECONDARY_HORIZONTAL_DATUM: NAD27
XY_ORIGIN: 440395.00000 4976582.00000
SECONDARY_XY_ORIGIN: 440456.86300 4976372.75000
NATION: US
NATION: "SCIENCE
STATE: MT
NW_QUAD_CORNER_XY: 440824.29300 4976281.05500
NE_QUAD_CORNER_XY: 445755.60200 4976237.35800
SE_QUAD_CORNERY_XY: 445696.78800 4969294.51200
SW_QUAD_CORNER_XY: 440760.13100 4969338.20800
SECONDARY_NW_QUAD_XY: 440822.54800 4976063.92800
SECONDARY_NE_QUAD_XY: 445754.00400 4976020.23000
SECONDARY_SE_QUAD_XY: 445695.19000 4969077.44100
SECONDARY_SW_QUAD_XY: 440758.38800 4969121.13800
RMSE_XY: 2.30000
IMAGE_SOURCE: BLACK AND WHITE FILM
SOURCE_IMAGE_ID: NAPP 8374 142
SOURCE_IMAGE_DATE: 1995 08 12
SOURCE_DEM_DATE: 1997 01 01
AGENCY: WESTERN MAPPING CENTER (WMC)
PRODUCER: UNDEFINED
PRODUCTION_SYSTEM: GIS/MAGIC
COMPRESSION: UNDEFINED
STANDARD_VERSION: 1996 12
METADATA_DATE: 1999 03 01
DATA_FILE_SIZE: 43025538
BYTE_COUNT: 5662
