FILENAME: O4411102.NWS.789286.tif
QUADRANGLE_NAME: BIG HORN MOUNTAIN
QUADRANT: NW
WEST_LONGITUDE: -111 52 30.00000
EAST_LONGITUDE: -111 48 45.00000
NORTH_LATITUDE: 45 0 0.00000
SOUTH_LATITUDE: 44 56 15.00000
PRODUCTION_DATE: 1997 11 25
RASTER_ORDER: LEFT_RIGHT/TOP_BOTTOM
BAND_ORGANIZATION: SINGLE FILE
BAND_CONTENT: BLACK&WHITE
BAND_CONTENT: UNDEFINED
BAND_CONTENT: UNDEFINED
BITS_PER_PIXEL: 8
SAMPLES_AND_LINES: 5665 7602
HORIZONTAL_DATUM: NAD83
HORIZONTAL_COORDINATE_SYSTEM: UTM
COORDINATE_ZONE: 12
HORIZONTAL_UNITS: METERS
HORIZONTAL_RESOLUTION: 1.00000
SECONDARY_HORIZONTAL_DATUM: NAD27
XY_ORIGIN: 430598.53000 4983622.27000
SECONDARY_XY_ORIGIN: 430659.95000 4983413.02000
NATION: US
STATE: MT
NW_QUAD_CORNER_XY: 431036.61000 4983322.77000
NE_QUAD_CORNER_XY: 435962.57000 4983271.47000
SE_QUAD_CORNERY_XY: 435892.98000 4976328.55000
SW_QUAD_CORNER_XY: 430961.67000 4976379.85000
SECONDARY_NW_QUAD_XY: 431034.58000 4983105.59000
SECONDARY_NE_QUAD_XY: 435960.68000 4983054.29000
SECONDARY_SE_QUAD_XY: 435891.09000 4976111.43000
SECONDARY_SW_QUAD_XY: 430959.64000 4976162.73000
RMSE_XY: 1.80000
IMAGE_SOURCE: BLACK AND WHITE FILM
SOURCE_IMAGE_ID: NAPP 8376 226
SOURCE_IMAGE_DATE: 1995 8 15
SOURCE_DEM_DATE: 1997 11 25
AGENCY: WESTERN MAPPING CENTER (WMC)
PRODUCER: NIES MAPPING GROUP
PRODUCTION_SYSTEM: INTERGRAPH- ISPM,ISIR
COMPRESSION: UNDEFINED
STANDARD_VERSION: 1996 12
METADATA_DATE: 1998 2 5
DATA_FILE_SIZE: 43070995
BYTE_COUNT: 5665
