FILENAME: O4411101.SES.789283.tif
QUADRANGLE_NAME: IRON CREEK
QUADRANT: SE
WEST_LONGITUDE: -111 56 15.00000
EAST_LONGITUDE: -111 52 30.00000
NORTH_LATITUDE: 44 56 15.00000
SOUTH_LATITUDE: 44 52 30.00000
PRODUCTION_DATE: 1997 11 24
RASTER_ORDER: LEFT_RIGHT/TOP_BOTTOM
BAND_ORGANIZATION: SINGLE FILE
BAND_CONTENT: BLACK&WHITE
BAND_CONTENT: UNDEFINED
BAND_CONTENT: UNDEFINED
BITS_PER_PIXEL: 8
SAMPLES_AND_LINES: 5675 7606
HORIZONTAL_DATUM: NAD83
HORIZONTAL_COORDINATE_SYSTEM: UTM
COORDINATE_ZONE: 12
HORIZONTAL_UNITS: METERS
HORIZONTAL_RESOLUTION: 1.00000
SECONDARY_HORIZONTAL_DATUM: NAD27
XY_ORIGIN: 425586.74300 4976734.44800
SECONDARY_XY_ORIGIN: 425648.20000 4976525.53800
NATION: US
STATE: MT
NW_QUAD_CORNER_XY: 426030.36100 4976434.94800
NE_QUAD_CORNER_XY: 430961.67200 4976379.85000
SE_QUAD_CORNERY_XY: 430886.81500 4969437.00300
SW_QUAD_CORNER_XY: 425950.15700 4969492.10000
SECONDARY_NW_QUAD_XY: 426028.18100 4976217.82600
SECONDARY_NE_QUAD_XY: 430959.63700 4976162.72600
SECONDARY_SE_QUAD_XY: 430884.78100 4969219.93600
SECONDARY_SW_QUAD_XY: 425947.97700 4969275.03400
RMSE_XY: 2.60000
IMAGE_SOURCE: BLACK AND WHITE FILM
SOURCE_IMAGE_ID: NAPP 8376 197
SOURCE_IMAGE_DATE: 1995 8 15
SOURCE_DEM_DATE: 1997 11 24
AGENCY: WESTERN MAPPING CENTER (WMC)
PRODUCER: NIES MAPPING GROUP
PRODUCTION_SYSTEM: INTERGRAPH- ISPM,ISIR
COMPRESSION: UNDEFINED
STANDARD_VERSION: 1996 12
METADATA_DATE: 1998 2 5
DATA_FILE_SIZE: 43169725
BYTE_COUNT: 5675
