BEGIN_USGS_DOQ_HEADER *
QUADRANGLE_NAME "DEADMAN LAKE" *
QUADRANT SW *
WEST_LONGITUDE -112 52 30.000 *
EAST_LONGITUDE -112 48 45.000 *
NORTH_LATITUDE 44 26 15.000 *
SOUTH_LATITUDE 44 22 30.000 *
PRODUCTION_DATE 2003 4 19 *
RASTER_ORDER LEFT_RIGHT/TOP_BOTTOM *
BAND_ORGANIZATION "SINGLE FILE" *
BAND_CONTENT BLACK&WHITE *
BITS_PER_PIXEL 8 *
SAMPLES_AND_LINES 5800 7663 *
HORIZONTAL_DATUM NAD83 *
HORIZONTAL_COORDINATE_SYSTEM UTM *
COORDINATE_ZONE 12 *
HORIZONTAL_UNITS METERS *
HORIZONTAL_RESOLUTION 1.0 *
SECONDARY_HORIZONTAL_DATUM NAD27 *
XY_ORIGIN 350255.851 4922476.601 *
SECONDARY_XY_ORIGIN 350318.711 4922268.189 *
NATION US *
STATE MT *
STATE ID *
NW_QUAD_CORNER_XY 350782.005 4922176.601 *
NE_QUAD_CORNER_XY 355755.973 4922064.499 *
SE_QUAD_CORNER_XY 355602.249 4915122.189 *
SW_QUAD_CORNER_XY 350622.976 4915234.286 *
SECONDARY_NW_QUAD_XY 350777.656 4921959.994 *
SECONDARY_NE_QUAD_XY 355751.770 4921847.889 *
SECONDARY_SE_QUAD_XY 355598.047 4914905.643 *
SECONDARY_SW_QUAD_XY 350618.629 4915017.742 *
RMSE_XY 2.01 *
IMAGE_SOURCE "BLACK AND WHITE FILM" *
SOURCE_IMAGE_ID "NAPP 10690 166" *
SOURCE_IMAGE_DATE 1999 8 16 *
SOURCE_IMAGE_ID "NAPP 10690 167" *
SOURCE_IMAGE_DATE 1999 8 16 *
SOURCE_IMAGE_ID "NAPP 10690 165" *
SOURCE_IMAGE_DATE 1999 8 16 *
SOURCE_IMAGE_ID "NAPP 10690 180" *
SOURCE_IMAGE_DATE 1999 8 16 *
SOURCE_IMAGE_ID "NAPP 10690 181" *
SOURCE_IMAGE_DATE 1999 8 16 *
SOURCE_IMAGE_ID "NAPP 10690 182" *
SOURCE_IMAGE_DATE 1999 8 16 *
SOURCE_IMAGE_ID "NAPP 10690 158" *
SOURCE_IMAGE_DATE 1999 8 16 *
SOURCE_IMAGE_ID "NAPP 10690 159" *
SOURCE_IMAGE_DATE 1999 8 16 *
SOURCE_IMAGE_ID "NAPP 10690 160" *
SOURCE_IMAGE_DATE 1999 8 16 *
SOURCE_DEM_DATE 2003 1 1 *
AGENCY "WESTERN MAPPING CENTER (WMC)" *
PRODUCER "USDA FS GEOSPATIAL SERVICE AND TECHNOLOGY CENTER" *
PRODUCTION_SYSTEM "ORBIT OR_RECTIFY V.5.2" *
STANDARD_VERSION 1996 12 *
METADATA_DATE 2003 6 5 *
DATA_FILE_SIZE 44451200 *
BYTE_COUNT 5800 *
