FILENAME: O4411232.NWS.1077797.tif
QUADRANGLE_NAME: BIG TABLE MOUNTAIN
QUADRANT: NW
WEST_LONGITUDE: -112 7 30.00000
EAST_LONGITUDE: -112 3 45.00000
NORTH_LATITUDE: 44 37 30.00000
SOUTH_LATITUDE: 44 33 45.00000
PRODUCTION_DATE: 2000 3 16
RASTER_ORDER: LEFT_RIGHT/TOP_BOTTOM
BAND_ORGANIZATION: SINGLE FILE
BAND_CONTENT: BLACK&WHITE
BAND_CONTENT: UNDEFINED
BAND_CONTENT: UNDEFINED
BITS_PER_PIXEL: 8
SAMPLES_AND_LINES: 5722 7621
HORIZONTAL_DATUM: NAD83
HORIZONTAL_COORDINATE_SYSTEM: UTM
COORDINATE_ZONE: 12
HORIZONTAL_UNITS: METERS
HORIZONTAL_RESOLUTION: 1.00000
SECONDARY_HORIZONTAL_DATUM: NAD27
XY_ORIGIN: 410294.00000 4942210.00000
SECONDARY_XY_ORIGIN: 410356.82100 4942001.88000
NATION: US
NATION: "SCIENCE
STATE: MT
NW_QUAD_CORNER_XY: 410756.24600 4941909.52900
NE_QUAD_CORNER_XY: 415714.24100 4941843.03600
SE_QUAD_CORNERY_XY: 415623.84400 4934900.55500
SW_QUAD_CORNER_XY: 410660.53000 4934967.04600
SECONDARY_NW_QUAD_XY: 410753.63400 4941692.70500
SECONDARY_NE_QUAD_XY: 415711.77400 4941626.21000
SECONDARY_SE_QUAD_XY: 415621.37800 4934683.79000
SECONDARY_SW_QUAD_XY: 410657.91900 4934750.28300
RMSE_XY: 1.20000
IMAGE_SOURCE: BLACK AND WHITE FILM
SOURCE_IMAGE_ID: NAPP 9485 240
SOURCE_IMAGE_DATE: 1995 08 20
SOURCE_IMAGE_ID: NAPP 9484 198
SOURCE_IMAGE_DATE: 1995 08 14
SOURCE_IMAGE_ID: NAPP 9484 276
SOURCE_IMAGE_DATE: 1995 08 14
SOURCE_IMAGE_ID: NAPP 9484 272
SOURCE_IMAGE_DATE: 1995 08 14
SOURCE_IMAGE_ID: NAPP 9485 239
SOURCE_IMAGE_DATE: 1995 08 20
SOURCE_DEM_DATE: 1968 00 00
AGENCY: WESTERN MAPPING CENTER (WMC)
PRODUCER: UNDEFINED
PRODUCTION_SYSTEM: GIS/MAGIC
COMPRESSION: UNDEFINED
STANDARD_VERSION: 1996 12
METADATA_DATE: 2000 05 26
DATA_FILE_SIZE: 43613084
BYTE_COUNT: 5722
