FILENAME: O4411231.NES.1077772.tif
QUADRANGLE_NAME: CORRAL CREEK
QUADRANT: NE
WEST_LONGITUDE: -112 11 15.00000
EAST_LONGITUDE: -112 7 30.00000
NORTH_LATITUDE: 44 37 30.00000
SOUTH_LATITUDE: 44 33 45.00000
PRODUCTION_DATE: 2000 3 15
RASTER_ORDER: LEFT_RIGHT/TOP_BOTTOM
BAND_ORGANIZATION: SINGLE FILE
BAND_CONTENT: BLACK&WHITE
BAND_CONTENT: UNDEFINED
BAND_CONTENT: UNDEFINED
BITS_PER_PIXEL: 8
SAMPLES_AND_LINES: 5728 7624
HORIZONTAL_DATUM: NAD83
HORIZONTAL_COORDINATE_SYSTEM: UTM
COORDINATE_ZONE: 12
HORIZONTAL_UNITS: METERS
HORIZONTAL_RESOLUTION: 1.00000
SECONDARY_HORIZONTAL_DATUM: NAD27
XY_ORIGIN: 405330.00000 4942280.00000
SECONDARY_XY_ORIGIN: 405392.98700 4942071.82900
NATION: US
NATION: "SCIENCE
STATE: MT
NW_QUAD_CORNER_XY: 405798.25000 4941979.82300
NE_QUAD_CORNER_XY: 410756.24600 4941909.52900
SE_QUAD_CORNERY_XY: 410660.53000 4934967.04600
SW_QUAD_CORNER_XY: 405697.21500 4935037.33800
SECONDARY_NW_QUAD_XY: 405795.49200 4941763.00100
SECONDARY_NE_QUAD_XY: 410753.63400 4941692.70500
SECONDARY_SE_QUAD_XY: 410657.91900 4934750.28300
SECONDARY_SW_QUAD_XY: 405694.45800 4934820.57700
RMSE_XY: 1.80000
IMAGE_SOURCE: BLACK AND WHITE FILM
SOURCE_IMAGE_ID: NAPP 9484 199
SOURCE_IMAGE_DATE: 1995 08 14
SOURCE_IMAGE_ID: NAPP 9484 192
SOURCE_IMAGE_DATE: 1995 08 14
SOURCE_IMAGE_ID: NAPP 9484 198
SOURCE_IMAGE_DATE: 1995 08 14
SOURCE_IMAGE_ID: NAPP 9484 201
SOURCE_IMAGE_DATE: 1995 08 14
SOURCE_DEM_DATE: 1967 00 00
AGENCY: WESTERN MAPPING CENTER (WMC)
PRODUCER: UNDEFINED
PRODUCTION_SYSTEM: GIS/MAGIC
COMPRESSION: UNDEFINED
STANDARD_VERSION: 1996 12
METADATA_DATE: 2000 05 26
DATA_FILE_SIZE: 43676000
BYTE_COUNT: 5728
