FILENAME: O4411224.NES.1077792.tif
QUADRANGLE_NAME: ANTELOPE PEAK
QUADRANT: NE
WEST_LONGITUDE: -112 3 45.00000
EAST_LONGITUDE: -112 0 0.00000
NORTH_LATITUDE: 44 45 0.00000
SOUTH_LATITUDE: 44 41 15.00000
PRODUCTION_DATE: 2000 3 16
RASTER_ORDER: LEFT_RIGHT/TOP_BOTTOM
BAND_ORGANIZATION: SINGLE FILE
BAND_CONTENT: BLACK&WHITE
BAND_CONTENT: UNDEFINED
BAND_CONTENT: UNDEFINED
BITS_PER_PIXEL: 8
SAMPLES_AND_LINES: 5706 7617
HORIZONTAL_DATUM: NAD83
HORIZONTAL_COORDINATE_SYSTEM: UTM
COORDINATE_ZONE: 12
HORIZONTAL_UNITS: METERS
HORIZONTAL_RESOLUTION: 1.00000
SECONDARY_HORIZONTAL_DATUM: NAD27
XY_ORIGIN: 415438.00000 4956029.00000
SECONDARY_XY_ORIGIN: 415500.50400 4955820.82600
NATION: US
NATION: "SCIENCE
STATE: MT
NW_QUAD_CORNER_XY: 415895.33800 4955728.21800
NE_QUAD_CORNER_XY: 420842.67700 4955665.52200
SE_QUAD_CORNERY_XY: 420757.40800 4948722.89500
SW_QUAD_CORNER_XY: 415804.73900 4948785.59000
SECONDARY_NW_QUAD_XY: 415892.87000 4955511.27300
SECONDARY_NE_QUAD_XY: 420840.35300 4955448.57400
SECONDARY_SE_QUAD_XY: 420755.08600 4948506.00700
SECONDARY_SW_QUAD_XY: 415802.27100 4948568.70400
RMSE_XY: 2.00000
IMAGE_SOURCE: BLACK AND WHITE FILM
SOURCE_IMAGE_ID: NAPP 9485 244
SOURCE_IMAGE_DATE: 1995 08 20
SOURCE_IMAGE_ID: NAPP 9484 270
SOURCE_IMAGE_DATE: 1995 08 14
SOURCE_IMAGE_ID: NAPP 9485 242
SOURCE_IMAGE_DATE: 1995 08 20
SOURCE_IMAGE_ID: NAPP 8376 140
SOURCE_IMAGE_DATE: 1995 08 15
SOURCE_DEM_DATE: 1967 00 00
AGENCY: WESTERN MAPPING CENTER (WMC)
PRODUCER: UNDEFINED
PRODUCTION_SYSTEM: GIS/MAGIC
COMPRESSION: UNDEFINED
STANDARD_VERSION: 1996 12
METADATA_DATE: 2000 05 26
DATA_FILE_SIZE: 43468308
BYTE_COUNT: 5706
