FILENAME: O4411223.NWS.1077769.tif
QUADRANGLE_NAME: WOLVERINE CREEK
QUADRANT: NW
WEST_LONGITUDE: -112 15 0.00000
EAST_LONGITUDE: -112 11 15.00000
NORTH_LATITUDE: 44 45 0.00000
SOUTH_LATITUDE: 44 41 15.00000
PRODUCTION_DATE: 2000 3 15
RASTER_ORDER: LEFT_RIGHT/TOP_BOTTOM
BAND_ORGANIZATION: SINGLE FILE
BAND_CONTENT: BLACK&WHITE
BAND_CONTENT: UNDEFINED
BAND_CONTENT: UNDEFINED
BITS_PER_PIXEL: 8
SAMPLES_AND_LINES: 5723 7629
HORIZONTAL_DATUM: NAD83
HORIZONTAL_COORDINATE_SYSTEM: UTM
COORDINATE_ZONE: 12
HORIZONTAL_UNITS: METERS
HORIZONTAL_RESOLUTION: 1.00000
SECONDARY_HORIZONTAL_DATUM: NAD27
XY_ORIGIN: 400579.00000 4956240.00000
SECONDARY_XY_ORIGIN: 400641.89900 4956031.64800
NATION: US
NATION: "SCIENCE
STATE: MT
NW_QUAD_CORNER_XY: 401053.31700 4955939.11200
NE_QUAD_CORNER_XY: 406000.65800 4955865.01300
SE_QUAD_CORNERY_XY: 405899.39800 4948922.38200
SW_QUAD_CORNER_XY: 400946.72500 4948996.47900
SECONDARY_NW_QUAD_XY: 401050.41200 4955722.17200
SECONDARY_NE_QUAD_XY: 405997.89900 4955648.07100
SECONDARY_SE_QUAD_XY: 405896.63900 4948705.49900
SECONDARY_SW_QUAD_XY: 400943.82100 4948779.59900
RMSE_XY: 1.50000
IMAGE_SOURCE: BLACK AND WHITE FILM
SOURCE_IMAGE_ID: NAPP 9484 188
SOURCE_IMAGE_DATE: 1995 08 14
SOURCE_IMAGE_ID: NAPP 9484 187
SOURCE_IMAGE_DATE: 1995 08 14
SOURCE_DEM_DATE: 1967 00 00
AGENCY: WESTERN MAPPING CENTER (WMC)
PRODUCER: UNDEFINED
PRODUCTION_SYSTEM: GIS/MAGIC
COMPRESSION: UNDEFINED
STANDARD_VERSION: 1996 12
METADATA_DATE: 2000 05 26
DATA_FILE_SIZE: 43666490
BYTE_COUNT: 5723
