FILENAME: O4411221.NES.1077700.tif
QUADRANGLE_NAME: HENRY GULCH
QUADRANT: NE
WEST_LONGITUDE: -112 26 15.00000
EAST_LONGITUDE: -112 22 30.00000
NORTH_LATITUDE: 44 45 0.00000
SOUTH_LATITUDE: 44 41 15.00000
PRODUCTION_DATE: 2000 4 14
RASTER_ORDER: LEFT_RIGHT/TOP_BOTTOM
BAND_ORGANIZATION: SINGLE FILE
BAND_CONTENT: BLACK&WHITE
BAND_CONTENT: UNDEFINED
BAND_CONTENT: UNDEFINED
BITS_PER_PIXEL: 8
SAMPLES_AND_LINES: 5739 7640
HORIZONTAL_DATUM: NAD83
HORIZONTAL_COORDINATE_SYSTEM: UTM
COORDINATE_ZONE: 12
HORIZONTAL_UNITS: METERS
HORIZONTAL_RESOLUTION: 1.00000
SECONDARY_HORIZONTAL_DATUM: NAD27
XY_ORIGIN: 385721.00000 4956485.00000
SECONDARY_XY_ORIGIN: 385784.02400 4956276.57100
NATION: US
NATION: "SCIENCE
STATE: MT
NW_QUAD_CORNER_XY: 386211.28400 4956184.21700
NE_QUAD_CORNER_XY: 391158.63000 4956098.71300
SE_QUAD_CORNERY_XY: 391041.37500 4949156.07600
SW_QUAD_CORNER_XY: 386088.69700 4949241.57700
SECONDARY_NW_QUAD_XY: 386207.94400 4955967.28400
SECONDARY_NE_QUAD_XY: 391155.43500 4955881.77900
SECONDARY_SE_QUAD_XY: 391038.18100 4948939.20100
SECONDARY_SW_QUAD_XY: 386085.35800 4949024.70400
RMSE_XY: 1.40000
IMAGE_SOURCE: BLACK AND WHITE FILM
SOURCE_IMAGE_ID: NAPP 8382 234
SOURCE_IMAGE_DATE: 1995 08 01
SOURCE_IMAGE_ID: NAPP 8382 232
SOURCE_IMAGE_DATE: 1995 08 01
SOURCE_IMAGE_ID: NAPP 8382 235
SOURCE_IMAGE_DATE: 1995 08 01
SOURCE_IMAGE_ID: NAPP 8382 236
SOURCE_IMAGE_DATE: 1995 08 01
SOURCE_DEM_DATE: 1968 00 00
AGENCY: WESTERN MAPPING CENTER (WMC)
PRODUCER: UNDEFINED
PRODUCTION_SYSTEM: GIS/MAGIC
COMPRESSION: UNDEFINED
STANDARD_VERSION: 1996 12
METADATA_DATE: 2000 05 26
DATA_FILE_SIZE: 43851699
BYTE_COUNT: 5739
