FILENAME: O4411221.SES.1077702.tif
QUADRANGLE_NAME: HENRY GULCH
QUADRANT: SE
WEST_LONGITUDE: -112 26 15.00000
EAST_LONGITUDE: -112 22 30.00000
NORTH_LATITUDE: 44 41 15.00000
SOUTH_LATITUDE: 44 37 30.00000
PRODUCTION_DATE: 2000 4 14
RASTER_ORDER: LEFT_RIGHT/TOP_BOTTOM
BAND_ORGANIZATION: SINGLE FILE
BAND_CONTENT: BLACK&WHITE
BAND_CONTENT: UNDEFINED
BAND_CONTENT: UNDEFINED
BITS_PER_PIXEL: 8
SAMPLES_AND_LINES: 5745 7640
HORIZONTAL_DATUM: NAD83
HORIZONTAL_COORDINATE_SYSTEM: UTM
COORDINATE_ZONE: 12
HORIZONTAL_UNITS: METERS
HORIZONTAL_RESOLUTION: 1.00000
SECONDARY_HORIZONTAL_DATUM: NAD27
XY_ORIGIN: 385598.00000 4949542.00000
SECONDARY_XY_ORIGIN: 385661.03300 4949333.72200
NATION: US
NATION: "SCIENCE
STATE: MT
NW_QUAD_CORNER_XY: 386088.69700 4949241.57700
NE_QUAD_CORNER_XY: 391041.37500 4949156.07600
SE_QUAD_CORNERY_XY: 390924.25000 4942213.51100
SW_QUAD_CORNER_XY: 385966.24700 4942299.00900
SECONDARY_NW_QUAD_XY: 386085.35800 4949024.70400
SECONDARY_NE_QUAD_XY: 391038.18100 4948939.20100
SECONDARY_SE_QUAD_XY: 390921.05700 4941996.69600
SECONDARY_SW_QUAD_XY: 385962.90900 4942082.19700
RMSE_XY: 2.00000
IMAGE_SOURCE: BLACK AND WHITE FILM
SOURCE_IMAGE_ID: NAPP 8382 232
SOURCE_IMAGE_DATE: 1995 08 01
SOURCE_IMAGE_ID: NAPP 8382 213
SOURCE_IMAGE_DATE: 1995 08 01
SOURCE_DEM_DATE: 1968 00 00
AGENCY: WESTERN MAPPING CENTER (WMC)
PRODUCER: UNDEFINED
PRODUCTION_SYSTEM: GIS/MAGIC
COMPRESSION: UNDEFINED
STANDARD_VERSION: 1996 12
METADATA_DATE: 2000 05 26
DATA_FILE_SIZE: 43897545
BYTE_COUNT: 5745
