FILENAME: O4411219.NWS.1077585.tif
QUADRANGLE_NAME: DELL
QUADRANT: NW
WEST_LONGITUDE: -112 45 0.00000
EAST_LONGITUDE: -112 41 15.00000
NORTH_LATITUDE: 44 45 0.00000
SOUTH_LATITUDE: 44 41 15.00000
PRODUCTION_DATE: 2000 5 9
RASTER_ORDER: LEFT_RIGHT/TOP_BOTTOM
BAND_ORGANIZATION: SINGLE FILE
BAND_CONTENT: BLACK&WHITE
BAND_CONTENT: UNDEFINED
BAND_CONTENT: UNDEFINED
BITS_PER_PIXEL: 8
SAMPLES_AND_LINES: 5766 7658
HORIZONTAL_DATUM: NAD83
HORIZONTAL_COORDINATE_SYSTEM: UTM
COORDINATE_ZONE: 12
HORIZONTAL_UNITS: METERS
HORIZONTAL_RESOLUTION: 1.00000
SECONDARY_HORIZONTAL_DATUM: NAD27
XY_ORIGIN: 360957.00000 4956969.00000
SECONDARY_XY_ORIGIN: 361020.25800 4956759.96800
NATION: US
NATION: "SCIENCE
STATE: MT
NW_QUAD_CORNER_XY: 361474.53500 4956668.76300
NE_QUAD_CORNER_XY: 366421.88800 4956564.24900
SE_QUAD_CORNERY_XY: 366277.97000 4949621.60000
SW_QUAD_CORNER_XY: 361325.28400 4949726.11200
SECONDARY_NW_QUAD_XY: 361470.46900 4956451.84500
SECONDARY_NE_QUAD_XY: 366417.96700 4956347.32800
SECONDARY_SE_QUAD_XY: 366274.05000 4949404.73900
SECONDARY_SW_QUAD_XY: 361321.21900 4949509.25300
RMSE_XY: 1.10000
IMAGE_SOURCE: BLACK AND WHITE FILM
SOURCE_IMAGE_ID: NAPP 9483 082
SOURCE_IMAGE_DATE: 1995 08 14
SOURCE_IMAGE_ID: NAPP 9483 083
SOURCE_IMAGE_DATE: 1995 08 14
SOURCE_IMAGE_ID: NAPP 8382 003
SOURCE_IMAGE_DATE: 1995 08 01
SOURCE_IMAGE_ID: NAPP 8382 005
SOURCE_IMAGE_DATE: 1995 08 01
SOURCE_DEM_DATE: 1997 00 00
AGENCY: WESTERN MAPPING CENTER (WMC)
PRODUCER: UNDEFINED
PRODUCTION_SYSTEM: GIS/MAGIC
COMPRESSION: UNDEFINED
STANDARD_VERSION: 1996 12
METADATA_DATE: 2000 05 26
DATA_FILE_SIZE: 44161794
BYTE_COUNT: 5766
