FILENAME: O4411219.SES.1077589.tif
QUADRANGLE_NAME: DELL
QUADRANT: SE
WEST_LONGITUDE: -112 41 15.00000
EAST_LONGITUDE: -112 37 30.00000
NORTH_LATITUDE: 44 41 15.00000
SOUTH_LATITUDE: 44 37 30.00000
PRODUCTION_DATE: 2000 5 9
RASTER_ORDER: LEFT_RIGHT/TOP_BOTTOM
BAND_ORGANIZATION: SINGLE FILE
BAND_CONTENT: BLACK&WHITE
BAND_CONTENT: UNDEFINED
BAND_CONTENT: UNDEFINED
BITS_PER_PIXEL: 8
SAMPLES_AND_LINES: 5766 7655
HORIZONTAL_DATUM: NAD83
HORIZONTAL_COORDINATE_SYSTEM: UTM
COORDINATE_ZONE: 12
HORIZONTAL_UNITS: METERS
HORIZONTAL_RESOLUTION: 1.00000
SECONDARY_HORIZONTAL_DATUM: NAD27
XY_ORIGIN: 365766.00000 4949922.00000
SECONDARY_XY_ORIGIN: 365829.16800 4949713.29100
NATION: US
NATION: "SCIENCE
STATE: MT
NW_QUAD_CORNER_XY: 366277.97000 4949621.60000
NE_QUAD_CORNER_XY: 371230.65500 4949520.89100
SE_QUAD_CORNERY_XY: 371092.22400 4942578.31500
SW_QUAD_CORNER_XY: 366134.21200 4942679.02200
SECONDARY_NW_QUAD_XY: 366274.05000 4949404.73900
SECONDARY_NE_QUAD_XY: 371226.88000 4949304.02600
SECONDARY_SE_QUAD_XY: 371088.45100 4942361.51100
SECONDARY_SW_QUAD_XY: 366130.29400 4942462.22000
RMSE_XY: 1.50000
IMAGE_SOURCE: BLACK AND WHITE FILM
SOURCE_IMAGE_ID: NAPP 8382 002
SOURCE_IMAGE_DATE: 1995 08 01
SOURCE_IMAGE_ID: NAPP 8383 020
SOURCE_IMAGE_DATE: 1995 08 15
SOURCE_IMAGE_ID: NAPP 8382 003
SOURCE_IMAGE_DATE: 1995 08 01
SOURCE_IMAGE_ID: NAPP 8383 003
SOURCE_IMAGE_DATE: 1995 08 15
SOURCE_IMAGE_ID: NAPP 8382 121
SOURCE_IMAGE_DATE: 1995 08 01
SOURCE_DEM_DATE: 1997 00 00
AGENCY: WESTERN MAPPING CENTER (WMC)
PRODUCER: UNDEFINED
PRODUCTION_SYSTEM: GIS/MAGIC
COMPRESSION: UNDEFINED
STANDARD_VERSION: 1996 12
METADATA_DATE: 2000 05 26
DATA_FILE_SIZE: 44144496
BYTE_COUNT: 5766
