FILENAME: O4411218.NWS.1076721.tif
QUADRANGLE_NAME: DIXON MOUNTAIN
QUADRANT: NW
WEST_LONGITUDE: -112 52 30.00000
EAST_LONGITUDE: -112 48 45.00000
NORTH_LATITUDE: 44 45 0.00000
SOUTH_LATITUDE: 44 41 15.00000
PRODUCTION_DATE: 2000 5 9
RASTER_ORDER: LEFT_RIGHT/TOP_BOTTOM
BAND_ORGANIZATION: SINGLE FILE
BAND_CONTENT: BLACK&WHITE
BAND_CONTENT: UNDEFINED
BAND_CONTENT: UNDEFINED
BITS_PER_PIXEL: 8
SAMPLES_AND_LINES: 5778 7666
HORIZONTAL_DATUM: NAD83
HORIZONTAL_COORDINATE_SYSTEM: UTM
COORDINATE_ZONE: 12
HORIZONTAL_UNITS: METERS
HORIZONTAL_RESOLUTION: 1.00000
SECONDARY_HORIZONTAL_DATUM: NAD27
XY_ORIGIN: 351051.00000 4957190.00000
SECONDARY_XY_ORIGIN: 351114.24200 4956980.60900
NATION: US
NATION: "SCIENCE
STATE: MT
NW_QUAD_CORNER_XY: 351579.82500 4956889.20100
NE_QUAD_CORNER_XY: 356527.18100 4956777.08000
SE_QUAD_CORNERY_XY: 356372.59500 4949834.42700
SW_QUAD_CORNER_XY: 351419.90500 4949946.54500
SECONDARY_NW_QUAD_XY: 351575.46800 4956672.28900
SECONDARY_NE_QUAD_XY: 356522.96900 4956560.16600
SECONDARY_SE_QUAD_XY: 356368.38500 4949617.57100
SECONDARY_SW_QUAD_XY: 351415.54900 4949729.69200
RMSE_XY: 1.80000
IMAGE_SOURCE: BLACK AND WHITE FILM
SOURCE_IMAGE_ID: NAPP 9485 176
SOURCE_IMAGE_DATE: 1995 08 20
SOURCE_IMAGE_ID: NAPP 9485 177
SOURCE_IMAGE_DATE: 1995 08 20
SOURCE_IMAGE_ID: NAPP 9483 100
SOURCE_IMAGE_DATE: 1995 08 14
SOURCE_DEM_DATE: 1964 00 00
AGENCY: WESTERN MAPPING CENTER (WMC)
PRODUCER: UNDEFINED
PRODUCTION_SYSTEM: GIS/MAGIC
COMPRESSION: UNDEFINED
STANDARD_VERSION: 1996 12
METADATA_DATE: 2000 05 25
DATA_FILE_SIZE: 44299926
BYTE_COUNT: 5778
