FILENAME: O4411215.NWS.789294.tif
QUADRANGLE_NAME: ANTONE PEAK
QUADRANT: NW
WEST_LONGITUDE: -112 15 0.00000
EAST_LONGITUDE: -112 11 15.00000
NORTH_LATITUDE: 44 52 30.00000
SOUTH_LATITUDE: 44 48 45.00000
PRODUCTION_DATE: 1997 11 19
RASTER_ORDER: LEFT_RIGHT/TOP_BOTTOM
BAND_ORGANIZATION: SINGLE FILE
BAND_CONTENT: BLACK&WHITE
BAND_CONTENT: UNDEFINED
BAND_CONTENT: UNDEFINED
BITS_PER_PIXEL: 8
SAMPLES_AND_LINES: 5709 7625
HORIZONTAL_DATUM: NAD83
HORIZONTAL_COORDINATE_SYSTEM: UTM
COORDINATE_ZONE: 12
HORIZONTAL_UNITS: METERS
HORIZONTAL_RESOLUTION: 1.00000
SECONDARY_HORIZONTAL_DATUM: NAD27
XY_ORIGIN: 400794.94000 4970124.09700
SECONDARY_XY_ORIGIN: 400857.41900 4969915.40000
NATION: US
STATE: MT
NW_QUAD_CORNER_XY: 401266.85500 4969824.59700
NE_QUAD_CORNER_XY: 406203.51700 4969750.49600
SE_QUAD_CORNERY_XY: 406102.03100 4962807.71800
SW_QUAD_CORNER_XY: 401160.02700 4962881.81900
SECONDARY_NW_QUAD_XY: 401263.94900 4969607.54200
SECONDARY_NE_QUAD_XY: 406200.75600 4969533.43800
SECONDARY_SE_QUAD_XY: 406099.27100 4962590.71800
SECONDARY_SW_QUAD_XY: 401157.12200 4962664.82100
RMSE_XY: 1.70000
IMAGE_SOURCE: BLACK AND WHITE FILM
SOURCE_IMAGE_ID: NAPP 9484 184
SOURCE_IMAGE_DATE: 1995 8 14
SOURCE_DEM_DATE: 1997 11 19
AGENCY: WESTERN MAPPING CENTER (WMC)
PRODUCER: NIES MAPPING GROUP
PRODUCTION_SYSTEM: INTERGRAPH- ISPM,ISIR
COMPRESSION: UNDEFINED
STANDARD_VERSION: 1996 12
METADATA_DATE: 1998 2 5
DATA_FILE_SIZE: 43536834
BYTE_COUNT: 5709
