FILENAME: O4411214.SES.1077766.tif
QUADRANGLE_NAME: WHISKEY SPRING
QUADRANT: SE
WEST_LONGITUDE: -112 18 45.00000
EAST_LONGITUDE: -112 15 0.00000
NORTH_LATITUDE: 44 48 45.00000
SOUTH_LATITUDE: 44 45 0.00000
PRODUCTION_DATE: 2000 5 25
RASTER_ORDER: LEFT_RIGHT/TOP_BOTTOM
BAND_ORGANIZATION: SINGLE FILE
BAND_CONTENT: BLACK&WHITE
BAND_CONTENT: UNDEFINED
BAND_CONTENT: UNDEFINED
BITS_PER_PIXEL: 8
SAMPLES_AND_LINES: 5724 7632
HORIZONTAL_DATUM: NAD83
HORIZONTAL_COORDINATE_SYSTEM: UTM
COORDINATE_ZONE: 12
HORIZONTAL_UNITS: METERS
HORIZONTAL_RESOLUTION: 1.00000
SECONDARY_HORIZONTAL_DATUM: NAD27
XY_ORIGIN: 395738.00000 4963260.00000
SECONDARY_XY_ORIGIN: 395800.76300 4963051.44300
NATION: US
NATION: "SCIENCE
STATE: MT
NW_QUAD_CORNER_XY: 396218.02100 4962959.72000
NE_QUAD_CORNER_XY: 401160.02700 4962881.81800
SE_QUAD_CORNERY_XY: 401053.31700 4955939.11200
SW_QUAD_CORNER_XY: 396105.97400 4956017.01200
SECONDARY_NW_QUAD_XY: 396214.97100 4962742.72400
SECONDARY_NE_QUAD_XY: 401157.12200 4962664.82000
SECONDARY_SE_QUAD_XY: 401050.41200 4955722.17200
SECONDARY_SW_QUAD_XY: 396102.92400 4955800.07500
RMSE_XY: 3.60000
IMAGE_SOURCE: BLACK AND WHITE FILM
SOURCE_IMAGE_ID: NAPP 9484 083
SOURCE_IMAGE_DATE: 1995 08 14
SOURCE_IMAGE_ID: NAPP 9484 055
SOURCE_IMAGE_DATE: 1995 08 14
SOURCE_IMAGE_ID: NAPP 9484 082
SOURCE_IMAGE_DATE: 1995 08 14
SOURCE_IMAGE_ID: NAPP 9484 084
SOURCE_IMAGE_DATE: 1995 08 14
SOURCE_DEM_DATE: 2000 01 01
AGENCY: WESTERN MAPPING CENTER (WMC)
PRODUCER: UNDEFINED
PRODUCTION_SYSTEM: GIS/MAGIC
COMPRESSION: UNDEFINED
STANDARD_VERSION: 1996 12
METADATA_DATE: 2000 05 26
DATA_FILE_SIZE: 43691292
BYTE_COUNT: 5724
