FILENAME: O4411210.SWS.1076739.tif
QUADRANGLE_NAME: KIDD
QUADRANT: SW
WEST_LONGITUDE: -112 52 30.00000
EAST_LONGITUDE: -112 48 45.00000
NORTH_LATITUDE: 44 48 45.00000
SOUTH_LATITUDE: 44 45 0.00000
PRODUCTION_DATE: 2000 5 9
RASTER_ORDER: LEFT_RIGHT/TOP_BOTTOM
BAND_ORGANIZATION: SINGLE FILE
BAND_CONTENT: BLACK&WHITE
BAND_CONTENT: UNDEFINED
BAND_CONTENT: UNDEFINED
BITS_PER_PIXEL: 8
SAMPLES_AND_LINES: 5772 7665
HORIZONTAL_DATUM: NAD83
HORIZONTAL_COORDINATE_SYSTEM: UTM
COORDINATE_ZONE: 12
HORIZONTAL_UNITS: METERS
HORIZONTAL_RESOLUTION: 1.00000
SECONDARY_HORIZONTAL_DATUM: NAD27
XY_ORIGIN: 351211.00000 4964132.00000
SECONDARY_XY_ORIGIN: 351274.32400 4963922.46400
NATION: US
NATION: "SCIENCE
STATE: MT
NW_QUAD_CORNER_XY: 351739.92200 4963831.92500
NE_QUAD_CORNER_XY: 356681.93800 4963719.80300
SE_QUAD_CORNERY_XY: 356527.18100 4956777.08000
SW_QUAD_CORNER_XY: 351579.82500 4956889.20100
SECONDARY_NW_QUAD_XY: 351735.56400 4963614.95500
SECONDARY_NE_QUAD_XY: 356677.72500 4963502.82900
SECONDARY_SE_QUAD_XY: 356522.96900 4956560.16600
SECONDARY_SW_QUAD_XY: 351575.46800 4956672.28900
RMSE_XY: 1.70000
IMAGE_SOURCE: BLACK AND WHITE FILM
SOURCE_IMAGE_ID: NAPP 9485 178
SOURCE_IMAGE_DATE: 1995 08 20
SOURCE_IMAGE_ID: NAPP 9485 177
SOURCE_IMAGE_DATE: 1995 08 20
SOURCE_IMAGE_ID: NAPP 9485 179
SOURCE_IMAGE_DATE: 1995 08 20
SOURCE_DEM_DATE: 1992 00 00
AGENCY: WESTERN MAPPING CENTER (WMC)
PRODUCER: UNDEFINED
PRODUCTION_SYSTEM: GIS/MAGIC
COMPRESSION: UNDEFINED
STANDARD_VERSION: 1996 12
METADATA_DATE: 2000 05 25
DATA_FILE_SIZE: 44248152
BYTE_COUNT: 5772
