FILENAME: O4411208.NWS.789290.tif
QUADRANGLE_NAME: SPUR MOUNTAIN
QUADRANT: NW
WEST_LONGITUDE: -112 7 30.00000
EAST_LONGITUDE: -112 3 45.00000
NORTH_LATITUDE: 45 0 0.00000
SOUTH_LATITUDE: 44 56 15.00000
PRODUCTION_DATE: 1997 11 19
RASTER_ORDER: LEFT_RIGHT/TOP_BOTTOM
BAND_ORGANIZATION: SINGLE FILE
BAND_CONTENT: BLACK&WHITE
BAND_CONTENT: UNDEFINED
BAND_CONTENT: UNDEFINED
BITS_PER_PIXEL: 8
SAMPLES_AND_LINES: 5687 7618
HORIZONTAL_DATUM: NAD83
HORIZONTAL_COORDINATE_SYSTEM: UTM
COORDINATE_ZONE: 12
HORIZONTAL_UNITS: METERS
HORIZONTAL_RESOLUTION: 1.00000
SECONDARY_HORIZONTAL_DATUM: NAD27
XY_ORIGIN: 410872.50000 4983865.46900
SECONDARY_XY_ORIGIN: 410934.06600 4983656.43700
NATION: US
STATE: MT
NW_QUAD_CORNER_XY: 411332.78200 4983565.96900
NE_QUAD_CORNER_XY: 416258.74000 4983499.46800
SE_QUAD_CORNERY_XY: 416167.73900 4976556.54500
SW_QUAD_CORNER_XY: 411236.42700 4976623.04500
SECONDARY_NW_QUAD_XY: 411330.16500 4983348.79600
SECONDARY_NE_QUAD_XY: 416256.26800 4983282.29400
SECONDARY_SE_QUAD_XY: 416165.26800 4976339.42700
SECONDARY_SW_QUAD_XY: 411233.81100 4976405.92900
RMSE_XY: 4.40000
IMAGE_SOURCE: BLACK AND WHITE FILM
SOURCE_IMAGE_ID: NAPP 9484 262
SOURCE_IMAGE_DATE: 1995 8 14
SOURCE_DEM_DATE: 1997 11 19
AGENCY: WESTERN MAPPING CENTER (WMC)
PRODUCER: NIES MAPPING GROUP
PRODUCTION_SYSTEM: INTERGRAPH- ISPM,ISIR
COMPRESSION: UNDEFINED
STANDARD_VERSION: 1996 12
METADATA_DATE: 1998 2 5
DATA_FILE_SIZE: 43329253
BYTE_COUNT: 5687
