FILENAME: O4411205.SES.810066.tif
QUADRANGLE_NAME: PRICE CREEK
QUADRANT: SE
WEST_LONGITUDE: -112 26 15.00000
EAST_LONGITUDE: -112 22 30.00000
NORTH_LATITUDE: 44 56 15.00000
SOUTH_LATITUDE: 44 52 30.00000
PRODUCTION_DATE: 1997 11 25
RASTER_ORDER: LEFT_RIGHT/TOP_BOTTOM
BAND_ORGANIZATION: SINGLE FILE
BAND_CONTENT: BLACK&WHITE
BAND_CONTENT: UNDEFINED
BAND_CONTENT: UNDEFINED
BITS_PER_PIXEL: 8
SAMPLES_AND_LINES: 5721 7637
HORIZONTAL_DATUM: NAD83
HORIZONTAL_COORDINATE_SYSTEM: UTM
COORDINATE_ZONE: 12
HORIZONTAL_UNITS: METERS
HORIZONTAL_RESOLUTION: 1.00000
SECONDARY_HORIZONTAL_DATUM: NAD27
XY_ORIGIN: 386091.12800 4977312.06400
SECONDARY_XY_ORIGIN: 386153.96900 4977103.08700
NATION: US
STATE: MT
NW_QUAD_CORNER_XY: 386579.86200 4977012.56400
NE_QUAD_CORNER_XY: 391511.17600 4976927.05700
SE_QUAD_CORNERY_XY: 391393.53000 4969984.20400
SW_QUAD_CORNER_XY: 386456.86600 4970069.71000
SECONDARY_NW_QUAD_XY: 386576.51900 4976795.45900
SECONDARY_NE_QUAD_XY: 391507.97800 4976709.95000
SECONDARY_SE_QUAD_XY: 391390.33300 4969767.15300
SECONDARY_SW_QUAD_XY: 386453.52400 4969852.66200
RMSE_XY: 1.80000
IMAGE_SOURCE: BLACK AND WHITE FILM
SOURCE_IMAGE_ID: NAPP 8383 31
SOURCE_IMAGE_DATE: 1995 8 15
SOURCE_DEM_DATE: 1997 11 25
AGENCY: WESTERN MAPPING CENTER (WMC)
PRODUCER: NIES MAPPING GROUP
PRODUCTION_SYSTEM: INTERGRAPH-ISIR
COMPRESSION: UNDEFINED
STANDARD_VERSION: 1996 12
METADATA_DATE: 1998 3 19
DATA_FILE_SIZE: 43696998
BYTE_COUNT: 5721
