FILENAME: O4411204.SWS.810062.tif
QUADRANGLE_NAME: BEECH CREEK
QUADRANT: SW
WEST_LONGITUDE: -112 37 30.00000
EAST_LONGITUDE: -112 33 45.00000
NORTH_LATITUDE: 44 56 15.00000
SOUTH_LATITUDE: 44 52 30.00000
PRODUCTION_DATE: 1997 11 25
RASTER_ORDER: LEFT_RIGHT/TOP_BOTTOM
BAND_ORGANIZATION: SINGLE FILE
BAND_CONTENT: BLACK&WHITE
BAND_CONTENT: UNDEFINED
BAND_CONTENT: UNDEFINED
BITS_PER_PIXEL: 8
SAMPLES_AND_LINES: 5737 7648
HORIZONTAL_DATUM: NAD83
HORIZONTAL_COORDINATE_SYSTEM: UTM
COORDINATE_ZONE: 12
HORIZONTAL_UNITS: METERS
HORIZONTAL_RESOLUTION: 1.00000
SECONDARY_HORIZONTAL_DATUM: NAD27
XY_ORIGIN: 371280.39500 4977591.39700
SECONDARY_XY_ORIGIN: 371343.61700 4977382.12300
NATION: US
STATE: MT
NW_QUAD_CORNER_XY: 371785.91700 4977291.89700
NE_QUAD_CORNER_XY: 376717.23200 4977194.98400
SE_QUAD_CORNERY_XY: 376583.53700 4970252.12800
SW_QUAD_CORNER_XY: 371646.87100 4970349.04100
SECONDARY_NW_QUAD_XY: 371782.13800 4977074.80000
SECONDARY_NE_QUAD_XY: 376713.59900 4976977.88400
SECONDARY_SE_QUAD_XY: 376579.90400 4970035.08500
SECONDARY_SW_QUAD_XY: 371643.09300 4970132.00100
RMSE_XY: 1.40000
IMAGE_SOURCE: BLACK AND WHITE FILM
SOURCE_IMAGE_ID: NAPP 8382 114
SOURCE_IMAGE_DATE: 1995 8 1
SOURCE_DEM_DATE: 1997 11 25
AGENCY: WESTERN MAPPING CENTER (WMC)
PRODUCER: NIES MAPPING GROUP
PRODUCTION_SYSTEM: INTERGRAPH-ISIR
COMPRESSION: UNDEFINED
STANDARD_VERSION: 1996 12
METADATA_DATE: 1998 3 19
DATA_FILE_SIZE: 43882313
BYTE_COUNT: 5737
