FILENAME: O4411203.NES.1077548.tif
QUADRANGLE_NAME: MONUMENT HILL
QUADRANT: NE
WEST_LONGITUDE: -112 41 15.00000
EAST_LONGITUDE: -112 37 30.00000
NORTH_LATITUDE: 45 0 0.00000
SOUTH_LATITUDE: 44 56 15.00000
PRODUCTION_DATE: 2000 5 9
RASTER_ORDER: LEFT_RIGHT/TOP_BOTTOM
BAND_ORGANIZATION: SINGLE FILE
BAND_CONTENT: BLACK&WHITE
BAND_CONTENT: UNDEFINED
BAND_CONTENT: UNDEFINED
BITS_PER_PIXEL: 8
SAMPLES_AND_LINES: 5741 7654
HORIZONTAL_DATUM: NAD83
HORIZONTAL_COORDINATE_SYSTEM: UTM
COORDINATE_ZONE: 12
HORIZONTAL_UNITS: METERS
HORIZONTAL_RESOLUTION: 1.00000
SECONDARY_HORIZONTAL_DATUM: NAD27
XY_ORIGIN: 366486.00000 4984636.00000
SECONDARY_XY_ORIGIN: 366549.35000 4984426.43000
NATION: US
NATION: "SCIENCE
STATE: MT
NW_QUAD_CORNER_XY: 366999.15800 4984335.54000
NE_QUAD_CORNER_XY: 371925.11700 4984234.82400
SE_QUAD_CORNERY_XY: 371785.91700 4977291.89700
SW_QUAD_CORNER_XY: 366854.60100 4977392.61300
SECONDARY_NW_QUAD_XY: 366995.23200 4984118.39000
SECONDARY_NE_QUAD_XY: 371921.33600 4984017.67100
SECONDARY_SE_QUAD_XY: 371782.13800 4977074.80000
SECONDARY_SW_QUAD_XY: 366850.67600 4977175.51900
RMSE_XY: 2.10000
IMAGE_SOURCE: BLACK AND WHITE FILM
SOURCE_IMAGE_ID: NAPP 8382 012
SOURCE_IMAGE_DATE: 1995 08 01
SOURCE_IMAGE_ID: NAPP 9483 073
SOURCE_IMAGE_DATE: 1995 08 14
SOURCE_IMAGE_ID: NAPP 8382 011
SOURCE_IMAGE_DATE: 1995 08 01
SOURCE_IMAGE_ID: NAPP 8382 013
SOURCE_IMAGE_DATE: 1995 08 01
SOURCE_DEM_DATE: 1965 00 00
AGENCY: WESTERN MAPPING CENTER (WMC)
PRODUCER: UNDEFINED
PRODUCTION_SYSTEM: GIS/MAGIC
COMPRESSION: UNDEFINED
STANDARD_VERSION: 1996 12
METADATA_DATE: 2000 05 26
DATA_FILE_SIZE: 43947355
BYTE_COUNT: 5741
