FILENAME: O4411202.NES.1076732.tif
QUADRANGLE_NAME: RED ROCK
QUADRANT: NE
WEST_LONGITUDE: -112 48 45.00000
EAST_LONGITUDE: -112 45 0.00000
NORTH_LATITUDE: 45 0 0.00000
SOUTH_LATITUDE: 44 56 15.00000
PRODUCTION_DATE: 2000 5 9
RASTER_ORDER: LEFT_RIGHT/TOP_BOTTOM
BAND_ORGANIZATION: SINGLE FILE
BAND_CONTENT: BLACK&WHITE
BAND_CONTENT: UNDEFINED
BAND_CONTENT: UNDEFINED
BITS_PER_PIXEL: 8
SAMPLES_AND_LINES: 5752 7662
HORIZONTAL_DATUM: NAD83
HORIZONTAL_COORDINATE_SYSTEM: UTM
COORDINATE_ZONE: 12
HORIZONTAL_UNITS: METERS
HORIZONTAL_RESOLUTION: 1.00000
SECONDARY_HORIZONTAL_DATUM: NAD27
XY_ORIGIN: 356623.00000 4984849.00000
SECONDARY_XY_ORIGIN: 356686.51800 4984639.17400
NATION: US
NATION: "SCIENCE
STATE: MT
NW_QUAD_CORNER_XY: 357147.23900 4984548.38200
NE_QUAD_CORNER_XY: 362073.19800 4984440.05900
SE_QUAD_CORNERY_XY: 361923.28400 4977497.13200
SW_QUAD_CORNER_XY: 356991.96700 4977605.45400
SECONDARY_NW_QUAD_XY: 357143.02200 4984331.23800
SECONDARY_NE_QUAD_XY: 362069.12700 4984222.91300
SECONDARY_SE_QUAD_XY: 361919.21500 4977280.04100
SECONDARY_SW_QUAD_XY: 356987.75200 4977388.36600
RMSE_XY: 1.30000
IMAGE_SOURCE: BLACK AND WHITE FILM
SOURCE_IMAGE_ID: NAPP 9483 109
SOURCE_IMAGE_DATE: 1995 08 14
SOURCE_IMAGE_ID: NAPP 9483 108
SOURCE_IMAGE_DATE: 1995 08 14
SOURCE_IMAGE_ID: NAPP 9483 074
SOURCE_IMAGE_DATE: 1995 08 14
SOURCE_DEM_DATE: 1964 00 00
AGENCY: WESTERN MAPPING CENTER (WMC)
PRODUCER: UNDEFINED
PRODUCTION_SYSTEM: GIS/MAGIC
COMPRESSION: UNDEFINED
STANDARD_VERSION: 1996 12
METADATA_DATE: 2000 05 25
DATA_FILE_SIZE: 44077576
BYTE_COUNT: 5752
