FILENAME: O4411314.NES.47104.tif
QUADRANGLE_NAME: BANNOCK PASS
QUADRANT: NE
WEST_LONGITUDE: -113 18 45.00000
EAST_LONGITUDE: -113 15 0.00000
NORTH_LATITUDE: 44 52 30.00000
SOUTH_LATITUDE: 44 48 45.00000
PRODUCTION_DATE: 1995 10 18
RASTER_ORDER: LEFT_RIGHT/TOP_BOTTOM
BAND_ORGANIZATION: SINGLE FILE
BAND_CONTENT: BLACK&WHITE
BAND_CONTENT: UNDEFINED
BAND_CONTENT: UNDEFINED
BITS_PER_PIXEL: 8
SAMPLES_AND_LINES: 5820 7740
HORIZONTAL_DATUM: NAD83
HORIZONTAL_COORDINATE_SYSTEM: UTM
COORDINATE_ZONE: 12
HORIZONTAL_UNITS: METERS
HORIZONTAL_RESOLUTION: 1.00000
SECONDARY_HORIZONTAL_DATUM: NAD27
XY_ORIGIN: 316770.00000 4971990.00000
SECONDARY_XY_ORIGIN: 316833.69800 4971779.28400
NATION: US
STATE: MT
STATE: ID
NW_QUAD_CORNER_XY: 317343.48100 4971666.10600
NE_QUAD_CORNER_XY: 322280.15800 4971527.35000
SE_QUAD_CORNERY_XY: 322087.79700 4964584.54700
SW_QUAD_CORNER_XY: 317145.77100 4964723.30100
SECONDARY_NW_QUAD_XY: 317338.10400 4971449.10500
SECONDARY_NE_QUAD_XY: 322274.92600 4971310.34500
SECONDARY_SE_QUAD_XY: 322082.56700 4964367.59900
SECONDARY_SW_QUAD_XY: 317140.39500 4964506.35700
RMSE_XY: 7.70000
IMAGE_SOURCE: BLACK AND WHITE FILM
SOURCE_IMAGE_ID: NAPP 4938 136
SOURCE_IMAGE_DATE: 1992 8 27
SOURCE_DEM_DATE: 1995 10 18
AGENCY: WESTERN MAPPING CENTER (WMC)
PRODUCER: Analytical Surveys
PRODUCTION_SYSTEM: ORBIT OR_RECTIFY V.5.2
COMPRESSION: UNDEFINED
STANDARD_VERSION: 1996 12
METADATA_DATE: 1997 7 13
DATA_FILE_SIZE: 45052620
BYTE_COUNT: 5820
