FILENAME: O4411308.SWS.1076631.tif
QUADRANGLE_NAME: HANSEN RANCH
QUADRANT: SW
WEST_LONGITUDE: -113 7 30.00000
EAST_LONGITUDE: -113 3 45.00000
NORTH_LATITUDE: 44 56 15.00000
SOUTH_LATITUDE: 44 52 30.00000
PRODUCTION_DATE: 2000 5 10
RASTER_ORDER: LEFT_RIGHT/TOP_BOTTOM
BAND_ORGANIZATION: SINGLE FILE
BAND_CONTENT: BLACK&WHITE
BAND_CONTENT: UNDEFINED
BAND_CONTENT: UNDEFINED
BITS_PER_PIXEL: 8
SAMPLES_AND_LINES: 5785 7680
HORIZONTAL_DATUM: NAD83
HORIZONTAL_COORDINATE_SYSTEM: UTM
COORDINATE_ZONE: 12
HORIZONTAL_UNITS: METERS
HORIZONTAL_RESOLUTION: 1.00000
SECONDARY_HORIZONTAL_DATUM: NAD27
XY_ORIGIN: 331783.00000 4978505.00000
SECONDARY_XY_ORIGIN: 331846.68600 4978294.59900
NATION: US
NATION: "SCIENCE
STATE: MT
NW_QUAD_CORNER_XY: 332335.37300 4978204.12000
NE_QUAD_CORNER_XY: 337266.69300 4978076.77800
SE_QUAD_CORNERY_XY: 337090.18200 4971133.91400
SW_QUAD_CORNER_XY: 332153.50800 4971261.25400
SECONDARY_NW_QUAD_XY: 332330.43100 4977987.05000
SECONDARY_NE_QUAD_XY: 337261.89600 4977859.70400
SECONDARY_SE_QUAD_XY: 337085.38700 4970916.89700
SECONDARY_SW_QUAD_XY: 332148.56800 4971044.24100
RMSE_XY: 2.30000
IMAGE_SOURCE: BLACK AND WHITE FILM
SOURCE_IMAGE_ID: NAPP 8404 063
SOURCE_IMAGE_DATE: 1995 09 12
SOURCE_IMAGE_ID: NAPP 8393 239
SOURCE_IMAGE_DATE: 1995 08 19
SOURCE_IMAGE_ID: NAPP 8393 240
SOURCE_IMAGE_DATE: 1995 08 19
SOURCE_IMAGE_ID: NAPP 8404 062
SOURCE_IMAGE_DATE: 1995 09 12
SOURCE_DEM_DATE: 1997 00 00
AGENCY: WESTERN MAPPING CENTER (WMC)
PRODUCER: UNDEFINED
PRODUCTION_SYSTEM: GIS/MAGIC
COMPRESSION: UNDEFINED
STANDARD_VERSION: 1996 12
METADATA_DATE: 2000 05 25
DATA_FILE_SIZE: 44434585
BYTE_COUNT: 5785
