FILENAME: O4510463.NES.1167535.tif
QUADRANGLE_NAME: ELKHORN CREEK SW
QUADRANT: NE
WEST_LONGITUDE: -104 11 15.00000
EAST_LONGITUDE: -104 7 30.00000
NORTH_LATITUDE: 45 7 30.00000
SOUTH_LATITUDE: 45 3 45.00000
PRODUCTION_DATE: 2001 11 15
RASTER_ORDER: LEFT_RIGHT/TOP_BOTTOM
BAND_ORGANIZATION: SINGLE FILE
BAND_CONTENT: BLACK&WHITE
BAND_CONTENT: UNDEFINED
BAND_CONTENT: UNDEFINED
BITS_PER_PIXEL: 8
SAMPLES_AND_LINES: 5632 7599
HORIZONTAL_DATUM: NAD83
HORIZONTAL_COORDINATE_SYSTEM: UTM
COORDINATE_ZONE: 13
HORIZONTAL_UNITS: METERS
HORIZONTAL_RESOLUTION: 1.00000
SECONDARY_HORIZONTAL_DATUM: NAD27
XY_ORIGIN: 563558.00000 4997510.00000
SECONDARY_XY_ORIGIN: 563599.00000 4997295.00000
NATION: US
STATE: MT
NW_QUAD_CORNER_XY: 563898.03000 4997157.54100
NE_QUAD_CORNER_XY: 568813.26200 4997208.83900
SE_QUAD_CORNERY_XY: 568888.36700 4990265.76800
SW_QUAD_CORNER_XY: 563967.76900 4990214.47000
SECONDARY_NW_QUAD_XY: 563899.92100 4996940.25000
SECONDARY_NE_QUAD_XY: 568815.29900 4996991.54900
SECONDARY_SE_QUAD_XY: 568890.40300 4990048.53300
SECONDARY_SW_QUAD_XY: 563969.66000 4989997.23400
RMSE_XY: 1.50000
IMAGE_SOURCE: BLACK AND WHITE FILM
SOURCE_IMAGE_ID: NAPP 9104 8
SOURCE_IMAGE_DATE: 1996 7 29
SOURCE_DEM_DATE: 1972 00 00
AGENCY: ROCKY MOUNTAIN MAPPING CENTER (RMMC)
PRODUCER: ROCKY MOUNTAIN MAPPING CENTER (RMMC)
PRODUCTION_SYSTEM: DV2.6.4 1/00 OV2.6 6/00
COMPRESSION: UNDEFINED
STANDARD_VERSION: 1996 12
METADATA_DATE: 2001 11 15
DATA_FILE_SIZE: 42803200
BYTE_COUNT: 5632
