FILENAME: O4510461.NWS.1167518.tif
QUADRANGLE_NAME: ALZADA
QUADRANT: NW
WEST_LONGITUDE: -104 30 0.00000
EAST_LONGITUDE: -104 26 15.00000
NORTH_LATITUDE: 45 7 30.00000
SOUTH_LATITUDE: 45 3 45.00000
PRODUCTION_DATE: 2001 11 15
RASTER_ORDER: LEFT_RIGHT/TOP_BOTTOM
BAND_ORGANIZATION: SINGLE FILE
BAND_CONTENT: BLACK&WHITE
BAND_CONTENT: UNDEFINED
BAND_CONTENT: UNDEFINED
BITS_PER_PIXEL: 8
SAMPLES_AND_LINES: 5606 7580
HORIZONTAL_DATUM: NAD83
HORIZONTAL_COORDINATE_SYSTEM: UTM
COORDINATE_ZONE: 13
HORIZONTAL_UNITS: METERS
HORIZONTAL_RESOLUTION: 1.00000
SECONDARY_HORIZONTAL_DATUM: NAD27
XY_ORIGIN: 538981.00000 4997291.00000
SECONDARY_XY_ORIGIN: 539022.40400 4997075.35700
NATION: US
STATE: MT
NW_QUAD_CORNER_XY: 539321.86700 4996958.05600
NE_QUAD_CORNER_XY: 544237.10000 4996990.35300
SE_QUAD_CORNERY_XY: 544285.37900 4990047.28100
SW_QUAD_CORNER_XY: 539364.78200 4990014.98400
SECONDARY_NW_QUAD_XY: 539323.03100 4996740.75900
SECONDARY_NE_QUAD_XY: 544238.40900 4996773.05700
SECONDARY_SE_QUAD_XY: 544286.68800 4989830.04000
SECONDARY_SW_QUAD_XY: 539365.94500 4989797.74100
RMSE_XY: 1.20000
IMAGE_SOURCE: BLACK AND WHITE FILM
SOURCE_IMAGE_ID: NAPP 10724 154
SOURCE_IMAGE_DATE: 1997 8 30
SOURCE_DEM_DATE: 1972 00 00
AGENCY: ROCKY MOUNTAIN MAPPING CENTER (RMMC)
PRODUCER: ROCKY MOUNTAIN MAPPING CENTER (RMMC)
PRODUCTION_SYSTEM: DV2.6.4 1/00 OV2.6 6/00
COMPRESSION: UNDEFINED
STANDARD_VERSION: 1996 12
METADATA_DATE: 2001 11 15
DATA_FILE_SIZE: 42499086
BYTE_COUNT: 5606
