FILENAME: O4510461.SWS.1167520.tif
QUADRANGLE_NAME: ALZADA
QUADRANT: SW
WEST_LONGITUDE: -104 30 0.00000
EAST_LONGITUDE: -104 26 15.00000
NORTH_LATITUDE: 45 3 45.00000
SOUTH_LATITUDE: 45 0 0.00000
PRODUCTION_DATE: 2001 11 15
RASTER_ORDER: LEFT_RIGHT/TOP_BOTTOM
BAND_ORGANIZATION: SINGLE FILE
BAND_CONTENT: BLACK&WHITE
BAND_CONTENT: UNDEFINED
BAND_CONTENT: UNDEFINED
BITS_PER_PIXEL: 8
SAMPLES_AND_LINES: 5613 7580
HORIZONTAL_DATUM: NAD83
HORIZONTAL_COORDINATE_SYSTEM: UTM
COORDINATE_ZONE: 13
HORIZONTAL_UNITS: METERS
HORIZONTAL_RESOLUTION: 1.00000
SECONDARY_HORIZONTAL_DATUM: NAD27
XY_ORIGIN: 539023.00000 4990348.00000
SECONDARY_XY_ORIGIN: 539064.46100 4990132.47600
NATION: US
STATE: MT
NW_QUAD_CORNER_XY: 539364.78200 4990014.98400
NE_QUAD_CORNER_XY: 544285.37900 4990047.28100
SE_QUAD_CORNERY_XY: 544333.60500 4983104.28500
SW_QUAD_CORNER_XY: 539407.64900 4983071.98800
SECONDARY_NW_QUAD_XY: 539365.94500 4989797.74100
SECONDARY_NE_QUAD_XY: 544286.68800 4989830.04000
SECONDARY_SE_QUAD_XY: 544334.91400 4982887.09900
SECONDARY_SW_QUAD_XY: 539408.81200 4982854.80000
RMSE_XY: 1.50000
IMAGE_SOURCE: BLACK AND WHITE FILM
SOURCE_IMAGE_ID: NAPP 10724 152
SOURCE_IMAGE_DATE: 1997 8 30
SOURCE_DEM_DATE: 1972 00 00
AGENCY: ROCKY MOUNTAIN MAPPING CENTER (RMMC)
PRODUCER: ROCKY MOUNTAIN MAPPING CENTER (RMMC)
PRODUCTION_SYSTEM: DV2.6.4 1/00 OV2.6 6/00
COMPRESSION: UNDEFINED
STANDARD_VERSION: 1996 12
METADATA_DATE: 2001 11 15
DATA_FILE_SIZE: 42552153
BYTE_COUNT: 5613
