FILENAME: O4510459.SWS.1167512.tif
QUADRANGLE_NAME: COCHRAN RESERVOIR
QUADRANT: SW
WEST_LONGITUDE: -104 45 0.00000
EAST_LONGITUDE: -104 41 15.00000
NORTH_LATITUDE: 45 3 45.00000
SOUTH_LATITUDE: 45 0 0.00000
PRODUCTION_DATE: 2001 11 15
RASTER_ORDER: LEFT_RIGHT/TOP_BOTTOM
BAND_ORGANIZATION: SINGLE FILE
BAND_CONTENT: BLACK&WHITE
BAND_CONTENT: UNDEFINED
BAND_CONTENT: UNDEFINED
BITS_PER_PIXEL: 8
SAMPLES_AND_LINES: 5592 7565
HORIZONTAL_DATUM: NAD83
HORIZONTAL_COORDINATE_SYSTEM: UTM
COORDINATE_ZONE: 13
HORIZONTAL_UNITS: METERS
HORIZONTAL_RESOLUTION: 1.00000
SECONDARY_HORIZONTAL_DATUM: NAD27
XY_ORIGIN: 519340.00000 4990242.00000
SECONDARY_XY_ORIGIN: 519381.77500 4990026.44200
NATION: US
STATE: MT
NW_QUAD_CORNER_XY: 519682.39100 4989923.79300
NE_QUAD_CORNER_XY: 524602.98900 4989940.89100
SE_QUAD_CORNERY_XY: 524629.78000 4982997.89500
SW_QUAD_CORNER_XY: 519703.82400 4982980.79700
SECONDARY_NW_QUAD_XY: 519682.97300 4989706.54800
SECONDARY_NE_QUAD_XY: 524603.71600 4989723.64600
SECONDARY_SE_QUAD_XY: 524630.50700 4982780.70600
SECONDARY_SW_QUAD_XY: 519704.40600 4982763.60700
RMSE_XY: 0.80000
IMAGE_SOURCE: BLACK AND WHITE FILM
SOURCE_IMAGE_ID: NAPP 9107 60
SOURCE_IMAGE_DATE: 1996 8 7
SOURCE_DEM_DATE: 1973 00 00
AGENCY: ROCKY MOUNTAIN MAPPING CENTER (RMMC)
PRODUCER: ROCKY MOUNTAIN MAPPING CENTER (RMMC)
PRODUCTION_SYSTEM: DV2.6.4 1/00 OV2.6 6/00
COMPRESSION: UNDEFINED
STANDARD_VERSION: 1996 12
METADATA_DATE: 2001 11 15
DATA_FILE_SIZE: 42309072
BYTE_COUNT: 5592
