FILENAME: O4510458.SES.1167498.tif
QUADRANGLE_NAME: HAMMOND SE
QUADRANT: SE
WEST_LONGITUDE: -104 48 45.00000
EAST_LONGITUDE: -104 45 0.00000
NORTH_LATITUDE: 45 3 45.00000
SOUTH_LATITUDE: 45 0 0.00000
PRODUCTION_DATE: 2001 11 15
RASTER_ORDER: LEFT_RIGHT/TOP_BOTTOM
BAND_ORGANIZATION: SINGLE FILE
BAND_CONTENT: BLACK&WHITE
BAND_CONTENT: UNDEFINED
BAND_CONTENT: UNDEFINED
BITS_PER_PIXEL: 8
SAMPLES_AND_LINES: 5587 7561
HORIZONTAL_DATUM: NAD83
HORIZONTAL_COORDINATE_SYSTEM: UTM
COORDINATE_ZONE: 13
HORIZONTAL_UNITS: METERS
HORIZONTAL_RESOLUTION: 1.00000
SECONDARY_HORIZONTAL_DATUM: NAD27
XY_ORIGIN: 514419.00000 4990225.00000
SECONDARY_XY_ORIGIN: 514461.00000 4990010.00000
NATION: US
STATE: MT
NW_QUAD_CORNER_XY: 514761.79300 4989910.49400
NE_QUAD_CORNER_XY: 519682.39100 4989923.79300
SE_QUAD_CORNERY_XY: 519703.82400 4982980.79700
SW_QUAD_CORNER_XY: 514777.86800 4982967.49800
SECONDARY_NW_QUAD_XY: 514762.22900 4989693.24900
SECONDARY_NE_QUAD_XY: 519682.97300 4989706.54800
SECONDARY_SE_QUAD_XY: 519704.40600 4982763.60700
SECONDARY_SW_QUAD_XY: 514778.30400 4982750.30800
RMSE_XY: 1.80000
IMAGE_SOURCE: BLACK AND WHITE FILM
SOURCE_IMAGE_ID: NAPP 9107 106
SOURCE_IMAGE_DATE: 1996 8 7
SOURCE_DEM_DATE: 1969 00 00
AGENCY: ROCKY MOUNTAIN MAPPING CENTER (RMMC)
PRODUCER: ROCKY MOUNTAIN MAPPING CENTER (RMMC)
PRODUCTION_SYSTEM: DV2.6.4 1/00 OV2.6 6/00
COMPRESSION: UNDEFINED
STANDARD_VERSION: 1996 12
METADATA_DATE: 2001 11 15
DATA_FILE_SIZE: 42248894
BYTE_COUNT: 5587
