FILENAME: O4510457.NWS.1167493.tif
QUADRANGLE_NAME: STACK ROCKS
QUADRANT: NW
WEST_LONGITUDE: -105 0 0.00000
EAST_LONGITUDE: -104 56 15.00000
NORTH_LATITUDE: 45 7 30.00000
SOUTH_LATITUDE: 45 3 45.00000
PRODUCTION_DATE: 2001 11 15
RASTER_ORDER: LEFT_RIGHT/TOP_BOTTOM
BAND_ORGANIZATION: SINGLE FILE
BAND_CONTENT: BLACK&WHITE
BAND_CONTENT: UNDEFINED
BAND_CONTENT: UNDEFINED
BITS_PER_PIXEL: 8
SAMPLES_AND_LINES: 5566 7549
HORIZONTAL_DATUM: NAD83
HORIZONTAL_COORDINATE_SYSTEM: UTM
COORDINATE_ZONE: 13
HORIZONTAL_UNITS: METERS
HORIZONTAL_RESOLUTION: 1.00000
SECONDARY_HORIZONTAL_DATUM: NAD27
XY_ORIGIN: 499657.00000 4997139.00000
SECONDARY_XY_ORIGIN: 499698.98800 4996923.32600
NATION: US
STATE: MT
NW_QUAD_CORNER_XY: 500000.00000 4996836.46900
NE_QUAD_CORNER_XY: 504915.23400 4996838.36800
SE_QUAD_CORNERY_XY: 504920.59800 4989895.29600
SW_QUAD_CORNER_XY: 500000.00000 4989893.39600
SECONDARY_NW_QUAD_XY: 500000.00000 4996619.16800
SECONDARY_NE_QUAD_XY: 504915.37900 4996621.06800
SECONDARY_SE_QUAD_XY: 504920.74300 4989678.05000
SECONDARY_SW_QUAD_XY: 500000.00000 4989676.15000
RMSE_XY: 0.90000
IMAGE_SOURCE: BLACK AND WHITE FILM
SOURCE_IMAGE_ID: NAPP 9117 126
SOURCE_IMAGE_DATE: 1996 8 27
SOURCE_DEM_DATE: 1969 00 00
AGENCY: ROCKY MOUNTAIN MAPPING CENTER (RMMC)
PRODUCER: ROCKY MOUNTAIN MAPPING CENTER (RMMC)
PRODUCTION_SYSTEM: DV2.6.4 1/00 OV2.6 6/00
COMPRESSION: UNDEFINED
STANDARD_VERSION: 1996 12
METADATA_DATE: 2001 11 15
DATA_FILE_SIZE: 42023300
BYTE_COUNT: 5566
