FILENAME: O4510455.NWS.1167489.tif
QUADRANGLE_NAME: ELKHORN CREEK WEST
QUADRANT: NW
WEST_LONGITUDE: -104 15 0.00000
EAST_LONGITUDE: -104 11 15.00000
NORTH_LATITUDE: 45 15 0.00000
SOUTH_LATITUDE: 45 11 15.00000
PRODUCTION_DATE: 2001 11 15
RASTER_ORDER: LEFT_RIGHT/TOP_BOTTOM
BAND_ORGANIZATION: SINGLE FILE
BAND_CONTENT: BLACK&WHITE
BAND_CONTENT: UNDEFINED
BAND_CONTENT: UNDEFINED
BITS_PER_PIXEL: 8
SAMPLES_AND_LINES: 5617 7595
HORIZONTAL_DATUM: NAD83
HORIZONTAL_COORDINATE_SYSTEM: UTM
COORDINATE_ZONE: 13
HORIZONTAL_UNITS: METERS
HORIZONTAL_RESOLUTION: 1.00000
SECONDARY_HORIZONTAL_DATUM: NAD27
XY_ORIGIN: 558513.00000 5011345.00000
SECONDARY_XY_ORIGIN: 558555.00000 5011130.00000
NATION: US
STATE: MT
NW_QUAD_CORNER_XY: 558853.83800 5010996.41100
NE_QUAD_CORNER_XY: 563758.32300 5011043.90800
SE_QUAD_CORNERY_XY: 563828.21500 5004100.68700
SW_QUAD_CORNER_XY: 558918.35400 5004053.19000
SECONDARY_NW_QUAD_XY: 558855.58500 5010779.01300
SECONDARY_NE_QUAD_XY: 563760.21500 5010826.51100
SECONDARY_SE_QUAD_XY: 563830.10600 5003883.34300
SECONDARY_SW_QUAD_XY: 558920.10000 5003835.84400
RMSE_XY: 1.40000
IMAGE_SOURCE: BLACK AND WHITE FILM
SOURCE_IMAGE_ID: NAPP 9087 86
SOURCE_IMAGE_DATE: 1996 7 3
SOURCE_DEM_DATE: 1972 00 00
AGENCY: ROCKY MOUNTAIN MAPPING CENTER (RMMC)
PRODUCER: ROCKY MOUNTAIN MAPPING CENTER (RMMC)
PRODUCTION_SYSTEM: DV2.6.4 1/00 OV2.6 6/00
COMPRESSION: UNDEFINED
STANDARD_VERSION: 1996 12
METADATA_DATE: 2001 11 15
DATA_FILE_SIZE: 42666732
BYTE_COUNT: 5617
