FILENAME: O4510452.NES.1167470.tif
QUADRANGLE_NAME: BLACK POINT NE
QUADRANT: NE
WEST_LONGITUDE: -104 33 45.00000
EAST_LONGITUDE: -104 30 0.00000
NORTH_LATITUDE: 45 15 0.00000
SOUTH_LATITUDE: 45 11 15.00000
PRODUCTION_DATE: 2001 11 16
RASTER_ORDER: LEFT_RIGHT/TOP_BOTTOM
BAND_ORGANIZATION: SINGLE FILE
BAND_CONTENT: BLACK&WHITE
BAND_CONTENT: UNDEFINED
BAND_CONTENT: UNDEFINED
BITS_PER_PIXEL: 8
SAMPLES_AND_LINES: 5591 7576
HORIZONTAL_DATUM: NAD83
HORIZONTAL_COORDINATE_SYSTEM: UTM
COORDINATE_ZONE: 13
HORIZONTAL_UNITS: METERS
HORIZONTAL_RESOLUTION: 1.00000
SECONDARY_HORIZONTAL_DATUM: NAD27
XY_ORIGIN: 533990.00000 5011145.00000
SECONDARY_XY_ORIGIN: 534031.35200 5010929.12000
NATION: US
STATE: MT
NW_QUAD_CORNER_XY: 534331.41000 5010815.93000
NE_QUAD_CORNER_XY: 539235.89700 5010844.42700
SE_QUAD_CORNERY_XY: 539278.90500 5003901.20300
SW_QUAD_CORNER_XY: 534369.04300 5003872.70600
SECONDARY_NW_QUAD_XY: 534332.42900 5010598.52600
SECONDARY_NE_QUAD_XY: 539237.06100 5010627.02400
SECONDARY_SE_QUAD_XY: 539280.06900 5003683.85300
SECONDARY_SW_QUAD_XY: 534370.06100 5003655.35500
RMSE_XY: 1.00000
IMAGE_SOURCE: BLACK AND WHITE FILM
SOURCE_IMAGE_ID: NAPP 10724 219
SOURCE_IMAGE_DATE: 1997 8 30
SOURCE_DEM_DATE: 1973 00 00
AGENCY: ROCKY MOUNTAIN MAPPING CENTER (RMMC)
PRODUCER: ROCKY MOUNTAIN MAPPING CENTER (RMMC)
PRODUCTION_SYSTEM: DV2.6.4 1/00 OV2.6 6/00
COMPRESSION: UNDEFINED
STANDARD_VERSION: 1996 12
METADATA_DATE: 2001 11 16
DATA_FILE_SIZE: 42363007
BYTE_COUNT: 5591
