FILENAME: O4510451.SWS.1167467.tif
QUADRANGLE_NAME: BLACK POINT
QUADRANT: SW
WEST_LONGITUDE: -104 45 0.00000
EAST_LONGITUDE: -104 41 15.00000
NORTH_LATITUDE: 45 11 15.00000
SOUTH_LATITUDE: 45 7 30.00000
PRODUCTION_DATE: 2001 11 16
RASTER_ORDER: LEFT_RIGHT/TOP_BOTTOM
BAND_ORGANIZATION: SINGLE FILE
BAND_CONTENT: BLACK&WHITE
BAND_CONTENT: UNDEFINED
BAND_CONTENT: UNDEFINED
BITS_PER_PIXEL: 8
SAMPLES_AND_LINES: 5581 7565
HORIZONTAL_DATUM: NAD83
HORIZONTAL_COORDINATE_SYSTEM: UTM
COORDINATE_ZONE: 13
HORIZONTAL_UNITS: METERS
HORIZONTAL_RESOLUTION: 1.00000
SECONDARY_HORIZONTAL_DATUM: NAD27
XY_ORIGIN: 519297.00000 5004128.00000
SECONDARY_XY_ORIGIN: 519338.62200 5003912.23000
NATION: US
STATE: MT
NW_QUAD_CORNER_XY: 519639.45400 5003810.01300
NE_QUAD_CORNER_XY: 524549.31700 5003827.11100
SE_QUAD_CORNERY_XY: 524576.16700 4996883.96300
SW_QUAD_CORNER_XY: 519660.93400 4996866.86500
SECONDARY_NW_QUAD_XY: 519640.03600 5003592.66000
SECONDARY_NE_QUAD_XY: 524550.04400 5003609.75900
SECONDARY_SE_QUAD_XY: 524576.89500 4996666.66400
SECONDARY_SW_QUAD_XY: 519661.51600 4996649.56600
RMSE_XY: 1.00000
IMAGE_SOURCE: BLACK AND WHITE FILM
SOURCE_IMAGE_ID: NAPP 9107 56
SOURCE_IMAGE_DATE: 1996 8 7
SOURCE_DEM_DATE: 1974 00 00
AGENCY: ROCKY MOUNTAIN MAPPING CENTER (RMMC)
PRODUCER: ROCKY MOUNTAIN MAPPING CENTER (RMMC)
PRODUCTION_SYSTEM: DV2.6.4 1/00 OV2.6 6/00
COMPRESSION: UNDEFINED
STANDARD_VERSION: 1996 12
METADATA_DATE: 2001 11 16
DATA_FILE_SIZE: 42225846
BYTE_COUNT: 5581
