FILENAME: O4510450.SWS.1167463.tif
QUADRANGLE_NAME: GREASY HILL
QUADRANT: SW
WEST_LONGITUDE: -104 52 30.00000
EAST_LONGITUDE: -104 48 45.00000
NORTH_LATITUDE: 45 11 15.00000
SOUTH_LATITUDE: 45 7 30.00000
PRODUCTION_DATE: 2001 11 16
RASTER_ORDER: LEFT_RIGHT/TOP_BOTTOM
BAND_ORGANIZATION: SINGLE FILE
BAND_CONTENT: BLACK&WHITE
BAND_CONTENT: UNDEFINED
BAND_CONTENT: UNDEFINED
BITS_PER_PIXEL: 8
SAMPLES_AND_LINES: 5571 7558
HORIZONTAL_DATUM: NAD83
HORIZONTAL_COORDINATE_SYSTEM: UTM
COORDINATE_ZONE: 13
HORIZONTAL_UNITS: METERS
HORIZONTAL_RESOLUTION: 1.00000
SECONDARY_HORIZONTAL_DATUM: NAD27
XY_ORIGIN: 509477.00000 5004098.00000
SECONDARY_XY_ORIGIN: 509519.00000 5003883.00000
NATION: US
STATE: MT
NW_QUAD_CORNER_XY: 509819.72700 5003787.21600
NE_QUAD_CORNER_XY: 514729.59000 5003796.71500
SE_QUAD_CORNERY_XY: 514745.70100 4996853.56700
SW_QUAD_CORNER_XY: 509830.46700 4996844.06800
SECONDARY_NW_QUAD_XY: 509820.01800 5003569.86300
SECONDARY_NE_QUAD_XY: 514730.02700 5003579.36200
SECONDARY_SE_QUAD_XY: 514746.13700 4996636.26700
SECONDARY_SW_QUAD_XY: 509830.75800 4996626.76800
RMSE_XY: 1.00000
IMAGE_SOURCE: BLACK AND WHITE FILM
SOURCE_IMAGE_ID: NAPP 10762 70
SOURCE_IMAGE_DATE: 1997 9 5
SOURCE_DEM_DATE: 1969 00 00
AGENCY: ROCKY MOUNTAIN MAPPING CENTER (RMMC)
PRODUCER: ROCKY MOUNTAIN MAPPING CENTER (RMMC)
PRODUCTION_SYSTEM: DV2.6.4 1/00 OV2.6 6/00
COMPRESSION: UNDEFINED
STANDARD_VERSION: 1996 12
METADATA_DATE: 2001 11 16
DATA_FILE_SIZE: 42111189
BYTE_COUNT: 5571
