FILENAME: O4510448.NWS.1167450.tif
QUADRANGLE_NAME: CACTUS CREEK EAST
QUADRANT: NW
WEST_LONGITUDE: -104 7 30.00000
EAST_LONGITUDE: -104 3 45.00000
NORTH_LATITUDE: 45 22 30.00000
SOUTH_LATITUDE: 45 18 45.00000
PRODUCTION_DATE: 2001 11 16
RASTER_ORDER: LEFT_RIGHT/TOP_BOTTOM
BAND_ORGANIZATION: SINGLE FILE
BAND_CONTENT: BLACK&WHITE
BAND_CONTENT: UNDEFINED
BAND_CONTENT: UNDEFINED
BITS_PER_PIXEL: 8
SAMPLES_AND_LINES: 5617 7603
HORIZONTAL_DATUM: NAD83
HORIZONTAL_COORDINATE_SYSTEM: UTM
COORDINATE_ZONE: 13
HORIZONTAL_UNITS: METERS
HORIZONTAL_RESOLUTION: 1.00000
SECONDARY_HORIZONTAL_DATUM: NAD27
XY_ORIGIN: 568172.00000 5025338.00000
SECONDARY_XY_ORIGIN: 568213.00000 5025122.00000
NATION: US
STATE: MT
NW_QUAD_CORNER_XY: 568512.02200 5024981.86800
NE_QUAD_CORNER_XY: 573405.73200 5025036.96200
SE_QUAD_CORNERY_XY: 573486.55500 5018093.59500
SW_QUAD_CORNER_XY: 568587.45500 5018038.49900
SECONDARY_NW_QUAD_XY: 568514.06000 5024764.37000
SECONDARY_NE_QUAD_XY: 573407.91700 5024819.46600
SECONDARY_SE_QUAD_XY: 573488.73900 5017876.14900
SECONDARY_SW_QUAD_XY: 568589.49300 5017821.05200
RMSE_XY: 1.20000
IMAGE_SOURCE: BLACK AND WHITE FILM
SOURCE_IMAGE_ID: NAPP 10766 53
SOURCE_IMAGE_DATE: 1998 7 10
SOURCE_DEM_DATE: 1972 00 00
AGENCY: ROCKY MOUNTAIN MAPPING CENTER (RMMC)
PRODUCER: ROCKY MOUNTAIN MAPPING CENTER (RMMC)
PRODUCTION_SYSTEM: DV2.6.4 1/00 OV2.6 6/00
COMPRESSION: UNDEFINED
STANDARD_VERSION: 1996 12
METADATA_DATE: 2001 11 16
DATA_FILE_SIZE: 42711668
BYTE_COUNT: 5617
