FILENAME: O4510447.SES.1167448.tif
QUADRANGLE_NAME: CACTUS CREEK WEST
QUADRANT: SE
WEST_LONGITUDE: -104 11 15.00000
EAST_LONGITUDE: -104 7 30.00000
NORTH_LATITUDE: 45 18 45.00000
SOUTH_LATITUDE: 45 15 0.00000
PRODUCTION_DATE: 2001 11 16
RASTER_ORDER: LEFT_RIGHT/TOP_BOTTOM
BAND_ORGANIZATION: SINGLE FILE
BAND_CONTENT: BLACK&WHITE
BAND_CONTENT: UNDEFINED
BAND_CONTENT: UNDEFINED
BITS_PER_PIXEL: 8
SAMPLES_AND_LINES: 5617 7599
HORIZONTAL_DATUM: NAD83
HORIZONTAL_COORDINATE_SYSTEM: UTM
COORDINATE_ZONE: 13
HORIZONTAL_UNITS: METERS
HORIZONTAL_RESOLUTION: 1.00000
SECONDARY_HORIZONTAL_DATUM: NAD27
XY_ORIGIN: 563348.00000 5018339.00000
SECONDARY_XY_ORIGIN: 563388.98300 5018123.03700
NATION: US
STATE: MT
NW_QUAD_CORNER_XY: 563688.35400 5017987.20300
NE_QUAD_CORNER_XY: 568587.45500 5018038.49900
SE_QUAD_CORNERY_XY: 568662.80600 5011095.20400
SW_QUAD_CORNER_XY: 563758.32300 5011043.90800
SECONDARY_NW_QUAD_XY: 563690.24700 5017769.75500
SECONDARY_NE_QUAD_XY: 568589.49300 5017821.05200
SECONDARY_SE_QUAD_XY: 568664.84400 5010877.80900
SECONDARY_SW_QUAD_XY: 563760.21500 5010826.51100
RMSE_XY: 1.20000
IMAGE_SOURCE: BLACK AND WHITE FILM
SOURCE_IMAGE_ID: NAPP 9095 21
SOURCE_IMAGE_DATE: 1996 7 9
SOURCE_DEM_DATE: 1972 00 00
AGENCY: ROCKY MOUNTAIN MAPPING CENTER (RMMC)
PRODUCER: ROCKY MOUNTAIN MAPPING CENTER (RMMC)
PRODUCTION_SYSTEM: DV2.6.4 1/00 OV2.6 6/00
COMPRESSION: UNDEFINED
STANDARD_VERSION: 1996 12
METADATA_DATE: 2001 11 16
DATA_FILE_SIZE: 42689200
BYTE_COUNT: 5617
