FILENAME: O4510445.NES.1167431.tif
QUADRANGLE_NAME: FINGER BUTTES WEST
QUADRANT: NE
WEST_LONGITUDE: -104 26 15.00000
EAST_LONGITUDE: -104 22 30.00000
NORTH_LATITUDE: 45 22 30.00000
SOUTH_LATITUDE: 45 18 45.00000
PRODUCTION_DATE: 2001 11 16
RASTER_ORDER: LEFT_RIGHT/TOP_BOTTOM
BAND_ORGANIZATION: SINGLE FILE
BAND_CONTENT: BLACK&WHITE
BAND_CONTENT: UNDEFINED
BAND_CONTENT: UNDEFINED
BITS_PER_PIXEL: 8
SAMPLES_AND_LINES: 5590 7583
HORIZONTAL_DATUM: NAD83
HORIZONTAL_COORDINATE_SYSTEM: UTM
COORDINATE_ZONE: 13
HORIZONTAL_UNITS: METERS
HORIZONTAL_RESOLUTION: 1.00000
SECONDARY_HORIZONTAL_DATUM: NAD27
XY_ORIGIN: 543703.00000 5025100.00000
SECONDARY_XY_ORIGIN: 543744.06400 5024883.77700
NATION: US
STATE: MT
NW_QUAD_CORNER_XY: 544043.45400 5024763.39500
NE_QUAD_CORNER_XY: 548937.16900 5024799.49000
SE_QUAD_CORNERY_XY: 548991.04800 5017856.11700
SW_QUAD_CORNER_XY: 544091.94500 5017820.02100
SECONDARY_NW_QUAD_XY: 544044.76500 5024545.89100
SECONDARY_NE_QUAD_XY: 548938.62500 5024581.98700
SECONDARY_SE_QUAD_XY: 548992.50400 5017638.66400
SECONDARY_SW_QUAD_XY: 544093.25500 5017602.56800
RMSE_XY: 0.80000
IMAGE_SOURCE: BLACK AND WHITE FILM
SOURCE_IMAGE_ID: NAPP 10724 131
SOURCE_IMAGE_DATE: 1997 8 30
SOURCE_DEM_DATE: 1972 00 00
AGENCY: ROCKY MOUNTAIN MAPPING CENTER (RMMC)
PRODUCER: ROCKY MOUNTAIN MAPPING CENTER (RMMC)
PRODUCTION_SYSTEM: DV2.6.4 1/00 OV2.6 6/00
COMPRESSION: UNDEFINED
STANDARD_VERSION: 1996 12
METADATA_DATE: 2001 11 16
DATA_FILE_SIZE: 42394560
BYTE_COUNT: 5590
