FILENAME: O4510442.NES.1167414.tif
QUADRANGLE_NAME: PHILLIPPI RESERVOIR
QUADRANT: NE
WEST_LONGITUDE: -104 48 45.00000
EAST_LONGITUDE: -104 45 0.00000
NORTH_LATITUDE: 45 22 30.00000
SOUTH_LATITUDE: 45 18 45.00000
PRODUCTION_DATE: 2001 11 16
RASTER_ORDER: LEFT_RIGHT/TOP_BOTTOM
BAND_ORGANIZATION: SINGLE FILE
BAND_CONTENT: BLACK&WHITE
BAND_CONTENT: UNDEFINED
BAND_CONTENT: UNDEFINED
BITS_PER_PIXEL: 8
SAMPLES_AND_LINES: 5559 7561
HORIZONTAL_DATUM: NAD83
HORIZONTAL_COORDINATE_SYSTEM: UTM
COORDINATE_ZONE: 13
HORIZONTAL_UNITS: METERS
HORIZONTAL_RESOLUTION: 1.00000
SECONDARY_HORIZONTAL_DATUM: NAD27
XY_ORIGIN: 514339.00000 5024941.00000
SECONDARY_XY_ORIGIN: 514380.39200 5024724.71700
NATION: US
STATE: MT
NW_QUAD_CORNER_XY: 514681.15400 5024626.61800
NE_QUAD_CORNER_XY: 519574.87100 5024639.91500
SE_QUAD_CORNERY_XY: 519596.42200 5017696.53800
SW_QUAD_CORNER_XY: 514697.31700 5017683.24100
SECONDARY_NW_QUAD_XY: 514681.59100 5024409.10900
SECONDARY_NE_QUAD_XY: 519575.45400 5024422.40700
SECONDARY_SE_QUAD_XY: 519597.00500 5017479.08100
SECONDARY_SW_QUAD_XY: 514697.75400 5017465.78300
RMSE_XY: 1.30000
IMAGE_SOURCE: BLACK AND WHITE FILM
SOURCE_IMAGE_ID: NAPP 9107 96
SOURCE_IMAGE_DATE: 1996 8 7
SOURCE_DEM_DATE: 1973 00 00
AGENCY: ROCKY MOUNTAIN MAPPING CENTER (RMMC)
PRODUCER: ROCKY MOUNTAIN MAPPING CENTER (RMMC)
PRODUCTION_SYSTEM: DV2.6.4 1/00 OV2.6 6/00
COMPRESSION: UNDEFINED
STANDARD_VERSION: 1996 12
METADATA_DATE: 2001 11 16
DATA_FILE_SIZE: 42037158
BYTE_COUNT: 5559
