FILENAME: O4510436.NES.1167389.tif
QUADRANGLE_NAME: RIDGWAY
QUADRANT: NE
WEST_LONGITUDE: -104 33 45.00000
EAST_LONGITUDE: -104 30 0.00000
NORTH_LATITUDE: 45 30 0.00000
SOUTH_LATITUDE: 45 26 15.00000
PRODUCTION_DATE: 2001 11 16
RASTER_ORDER: LEFT_RIGHT/TOP_BOTTOM
BAND_ORGANIZATION: SINGLE FILE
BAND_CONTENT: BLACK&WHITE
BAND_CONTENT: UNDEFINED
BAND_CONTENT: UNDEFINED
BITS_PER_PIXEL: 8
SAMPLES_AND_LINES: 5569 7576
HORIZONTAL_DATUM: NAD83
HORIZONTAL_COORDINATE_SYSTEM: UTM
COORDINATE_ZONE: 13
HORIZONTAL_UNITS: METERS
HORIZONTAL_RESOLUTION: 1.00000
SECONDARY_HORIZONTAL_DATUM: NAD27
XY_ORIGIN: 533840.00000 5038919.00000
SECONDARY_XY_ORIGIN: 533880.96300 5038702.39300
NATION: US
STATE: MT
NW_QUAD_CORNER_XY: 534180.47000 5038589.58300
NE_QUAD_CORNER_XY: 539063.39200 5038618.07700
SE_QUAD_CORNERY_XY: 539106.58900 5031674.55100
SW_QUAD_CORNER_XY: 534218.26700 5031646.05600
SECONDARY_NW_QUAD_XY: 534181.49000 5038371.97800
SECONDARY_NE_QUAD_XY: 539064.55800 5038400.47200
SECONDARY_SE_QUAD_XY: 539107.75400 5031456.99500
SECONDARY_SW_QUAD_XY: 534219.28600 5031428.50000
RMSE_XY: 0.90000
IMAGE_SOURCE: BLACK AND WHITE FILM
SOURCE_IMAGE_ID: NAPP 10724 211
SOURCE_IMAGE_DATE: 1997 8 30
SOURCE_DEM_DATE: 1973 00 00
AGENCY: ROCKY MOUNTAIN MAPPING CENTER (RMMC)
PRODUCER: ROCKY MOUNTAIN MAPPING CENTER (RMMC)
PRODUCTION_SYSTEM: DV2.6.4 1/00 OV2.6 6/00
COMPRESSION: UNDEFINED
STANDARD_VERSION: 1996 12
METADATA_DATE: 2001 11 16
DATA_FILE_SIZE: 42196313
BYTE_COUNT: 5569
