FILENAME: O4510434.NWS.1167382.tif
QUADRANGLE_NAME: KNUDSON DRAW NE
QUADRANT: NW
WEST_LONGITUDE: -104 52 30.00000
EAST_LONGITUDE: -104 48 45.00000
NORTH_LATITUDE: 45 30 0.00000
SOUTH_LATITUDE: 45 26 15.00000
PRODUCTION_DATE: 2001 11 16
RASTER_ORDER: LEFT_RIGHT/TOP_BOTTOM
BAND_ORGANIZATION: SINGLE FILE
BAND_CONTENT: BLACK&WHITE
BAND_CONTENT: UNDEFINED
BAND_CONTENT: UNDEFINED
BITS_PER_PIXEL: 8
SAMPLES_AND_LINES: 5543 7557
HORIZONTAL_DATUM: NAD83
HORIZONTAL_COORDINATE_SYSTEM: UTM
COORDINATE_ZONE: 13
HORIZONTAL_UNITS: METERS
HORIZONTAL_RESOLUTION: 1.00000
SECONDARY_HORIZONTAL_DATUM: NAD27
XY_ORIGIN: 509424.00000 5038815.00000
SECONDARY_XY_ORIGIN: 509465.00000 5038598.00000
NATION: US
STATE: MT
NW_QUAD_CORNER_XY: 509765.85000 5038504.10300
NE_QUAD_CORNER_XY: 514648.77500 5038513.60100
SE_QUAD_CORNERY_XY: 514664.97300 5031570.07100
SW_QUAD_CORNER_XY: 509776.64900 5031560.57300
SECONDARY_NW_QUAD_XY: 509766.14100 5038286.49500
SECONDARY_NE_QUAD_XY: 514649.21200 5038295.99300
SECONDARY_SE_QUAD_XY: 514665.41000 5031352.51200
SECONDARY_SW_QUAD_XY: 509776.94000 5031343.01400
RMSE_XY: 1.40000
IMAGE_SOURCE: BLACK AND WHITE FILM
SOURCE_IMAGE_ID: NAPP 10762 60
SOURCE_IMAGE_DATE: 1997 9 5
SOURCE_DEM_DATE: 1973 00 00
AGENCY: ROCKY MOUNTAIN MAPPING CENTER (RMMC)
PRODUCER: ROCKY MOUNTAIN MAPPING CENTER (RMMC)
PRODUCTION_SYSTEM: DV2.6.4 1/00 OV2.6 6/00
COMPRESSION: UNDEFINED
STANDARD_VERSION: 1996 12
METADATA_DATE: 2001 11 16
DATA_FILE_SIZE: 41893994
BYTE_COUNT: 5543
