FILENAME: O4510431.SWS.941684.tif
QUADRANGLE_NAME: TIMBER HILL
QUADRANT: SW
WEST_LONGITUDE: -104 15 0.00000
EAST_LONGITUDE: -104 11 15.00000
NORTH_LATITUDE: 45 33 45.00000
SOUTH_LATITUDE: 45 30 0.00000
PRODUCTION_DATE: 1998 12 2
RASTER_ORDER: LEFT_RIGHT/TOP_BOTTOM
BAND_ORGANIZATION: SINGLE FILE
BAND_CONTENT: BLACK&WHITE
BAND_CONTENT: UNDEFINED
BAND_CONTENT: UNDEFINED
BITS_PER_PIXEL: 8
SAMPLES_AND_LINES: 5588 7595
HORIZONTAL_DATUM: NAD83
HORIZONTAL_COORDINATE_SYSTEM: UTM
COORDINATE_ZONE: 13
HORIZONTAL_UNITS: METERS
HORIZONTAL_RESOLUTION: 1.00000
SECONDARY_HORIZONTAL_DATUM: NAD27
XY_ORIGIN: 558190.00000 5046062.00000
SECONDARY_XY_ORIGIN: 558230.00000 5045846.00000
NATION: US
STATE: MT
NW_QUAD_CORNER_XY: 558530.20700 5045713.64300
NE_QUAD_CORNER_XY: 563407.71900 5045761.13300
SE_QUAD_CORNERY_XY: 563477.99200 5038817.53800
SW_QUAD_CORNER_XY: 558595.07400 5038770.04700
SECONDARY_NW_QUAD_XY: 558531.95600 5045495.99500
SECONDARY_NE_QUAD_XY: 563409.61300 5045543.48600
SECONDARY_SE_QUAD_XY: 563479.88600 5038599.93900
SECONDARY_SW_QUAD_XY: 558596.82200 5038552.44700
RMSE_XY: 1.40000
IMAGE_SOURCE: BLACK AND WHITE FILM
SOURCE_IMAGE_ID: NAPP 10724 11
SOURCE_IMAGE_DATE: 1997 8 30
SOURCE_DEM_DATE: 1998 07 23
AGENCY: WESTERN MAPPING CENTER (WMC)
PRODUCER: MID-CONTINENT MAPPING CENTER (MCMC)
PRODUCTION_SYSTEM: DV2.6.3 10/9OV2.4 5/95
COMPRESSION: UNDEFINED
STANDARD_VERSION: 1996 12
METADATA_DATE: 1998 12 9
DATA_FILE_SIZE: 42446448
BYTE_COUNT: 5588
