FILENAME: O4510428.NWS.1167370.tif
QUADRANGLE_NAME: IKEY CREEK
QUADRANT: NW
WEST_LONGITUDE: -104 37 30.00000
EAST_LONGITUDE: -104 33 45.00000
NORTH_LATITUDE: 45 37 30.00000
SOUTH_LATITUDE: 45 33 45.00000
PRODUCTION_DATE: 2001 11 19
RASTER_ORDER: LEFT_RIGHT/TOP_BOTTOM
BAND_ORGANIZATION: SINGLE FILE
BAND_CONTENT: BLACK&WHITE
BAND_CONTENT: UNDEFINED
BAND_CONTENT: UNDEFINED
BITS_PER_PIXEL: 8
SAMPLES_AND_LINES: 5553 7572
HORIZONTAL_DATUM: NAD83
HORIZONTAL_COORDINATE_SYSTEM: UTM
COORDINATE_ZONE: 13
HORIZONTAL_UNITS: METERS
HORIZONTAL_RESOLUTION: 1.00000
SECONDARY_HORIZONTAL_DATUM: NAD27
XY_ORIGIN: 528892.00000 5052778.00000
SECONDARY_XY_ORIGIN: 528933.00000 5052561.00000
NATION: US
STATE: MT
NW_QUAD_CORNER_XY: 529232.64800 5052452.17200
NE_QUAD_CORNER_XY: 534104.75400 5052476.86500
SE_QUAD_CORNERY_XY: 534142.63200 5045533.18600
SW_QUAD_CORNER_XY: 529265.11500 5045508.49300
SECONDARY_NW_QUAD_XY: 529233.52200 5052234.47000
SECONDARY_NE_QUAD_XY: 534105.77400 5052259.16400
SECONDARY_SE_QUAD_XY: 534143.65300 5045315.53200
SECONDARY_SW_QUAD_XY: 529265.98900 5045290.83800
RMSE_XY: 1.90000
IMAGE_SOURCE: BLACK AND WHITE FILM
SOURCE_IMAGE_ID: NAPP 9105 28
SOURCE_IMAGE_DATE: 1996 8 1
SOURCE_DEM_DATE: 1972 00 00
AGENCY: ROCKY MOUNTAIN MAPPING CENTER (RMMC)
PRODUCER: ROCKY MOUNTAIN MAPPING CENTER (RMMC)
PRODUCTION_SYSTEM: DV2.6.4 1/00 OV2.6 6/00
COMPRESSION: UNDEFINED
STANDARD_VERSION: 1996 12
METADATA_DATE: 2001 11 19
DATA_FILE_SIZE: 42052869
BYTE_COUNT: 5553
