FILENAME: O4510419.SWS.941620.tif
QUADRANGLE_NAME: CHALK BUTTES
QUADRANT: SW
WEST_LONGITUDE: -104 45 0.00000
EAST_LONGITUDE: -104 41 15.00000
NORTH_LATITUDE: 45 41 15.00000
SOUTH_LATITUDE: 45 37 30.00000
PRODUCTION_DATE: 1998 11 16
RASTER_ORDER: LEFT_RIGHT/TOP_BOTTOM
BAND_ORGANIZATION: SINGLE FILE
BAND_CONTENT: BLACK&WHITE
BAND_CONTENT: UNDEFINED
BAND_CONTENT: UNDEFINED
BITS_PER_PIXEL: 8
SAMPLES_AND_LINES: 5536 7565
HORIZONTAL_DATUM: NAD83
HORIZONTAL_COORDINATE_SYSTEM: UTM
COORDINATE_ZONE: 13
HORIZONTAL_UNITS: METERS
HORIZONTAL_RESOLUTION: 1.00000
SECONDARY_HORIZONTAL_DATUM: NAD27
XY_ORIGIN: 519126.00000 5059676.00000
SECONDARY_XY_ORIGIN: 519166.79300 5059458.85100
NATION: US
STATE: MT
NW_QUAD_CORNER_XY: 519466.76500 5059357.94200
NE_QUAD_CORNER_XY: 524333.45600 5059375.03600
SE_QUAD_CORNERY_XY: 524360.54100 5052431.27900
SW_QUAD_CORNER_XY: 519488.43300 5052414.18400
SECONDARY_NW_QUAD_XY: 519467.34900 5059140.19200
SECONDARY_NE_QUAD_XY: 524334.18500 5059157.28600
SECONDARY_SE_QUAD_XY: 524361.27000 5052213.57600
SECONDARY_SW_QUAD_XY: 519489.01600 5052196.48100
RMSE_XY: 2.30000
IMAGE_SOURCE: BLACK AND WHITE FILM
SOURCE_IMAGE_ID: NAPP 9102 11
SOURCE_IMAGE_DATE: 1996 7 12
SOURCE_DEM_DATE: 1998 07 23
AGENCY: WESTERN MAPPING CENTER (WMC)
PRODUCER: MID-CONTINENT MAPPING CENTER (MCMC)
PRODUCTION_SYSTEM: DV2.6.3 10/9OV2.4 5/95
COMPRESSION: UNDEFINED
STANDARD_VERSION: 1996 12
METADATA_DATE: 1998 12 7
DATA_FILE_SIZE: 41885376
BYTE_COUNT: 5536
