FILENAME: O4510411.SES.941611.tif
QUADRANGLE_NAME: BEAVER FLATS SOUTH
QUADRANT: SE
WEST_LONGITUDE: -104 41 15.00000
EAST_LONGITUDE: -104 37 30.00000
NORTH_LATITUDE: 45 48 45.00000
SOUTH_LATITUDE: 45 45 0.00000
PRODUCTION_DATE: 1998 11 16
RASTER_ORDER: LEFT_RIGHT/TOP_BOTTOM
BAND_ORGANIZATION: SINGLE FILE
BAND_CONTENT: BLACK&WHITE
BAND_CONTENT: UNDEFINED
BAND_CONTENT: UNDEFINED
BITS_PER_PIXEL: 8
SAMPLES_AND_LINES: 5532 7569
HORIZONTAL_DATUM: NAD83
HORIZONTAL_COORDINATE_SYSTEM: UTM
COORDINATE_ZONE: 13
HORIZONTAL_UNITS: METERS
HORIZONTAL_RESOLUTION: 1.00000
SECONDARY_HORIZONTAL_DATUM: NAD27
XY_ORIGIN: 523938.00000 5073585.00000
SECONDARY_XY_ORIGIN: 523978.00000 5073368.00000
NATION: US
STATE: MT
NW_QUAD_CORNER_XY: 524279.19800 5073262.77700
NE_QUAD_CORNER_XY: 529135.03600 5073283.66800
SE_QUAD_CORNERY_XY: 529167.60800 5066339.76000
SW_QUAD_CORNER_XY: 524306.34200 5066318.86900
SECONDARY_NW_QUAD_XY: 524279.92800 5073044.93700
SECONDARY_NE_QUAD_XY: 529135.91200 5073065.82800
SECONDARY_SE_QUAD_XY: 529168.48400 5066121.96600
SECONDARY_SW_QUAD_XY: 524307.07100 5066101.07300
RMSE_XY: 1.10000
IMAGE_SOURCE: BLACK AND WHITE FILM
SOURCE_IMAGE_ID: NAPP 10724 194
SOURCE_IMAGE_DATE: 1997 8 30
SOURCE_DEM_DATE: 1998 07 23
AGENCY: WESTERN MAPPING CENTER (WMC)
PRODUCER: MID-CONTINENT MAPPING CENTER (MCMC)
PRODUCTION_SYSTEM: DV2.6.3 10/9OV2.4 5/95
COMPRESSION: UNDEFINED
STANDARD_VERSION: 1996 12
METADATA_DATE: 1998 12 8
DATA_FILE_SIZE: 41877240
BYTE_COUNT: 5532
