FILENAME: O4510564.SWS.840720.tif
QUADRANGLE_NAME: BELLE CREEK SOUTH
QUADRANT: SW
WEST_LONGITUDE: -105 7 30.00000
EAST_LONGITUDE: -105 3 45.00000
NORTH_LATITUDE: 45 3 45.00000
SOUTH_LATITUDE: 45 0 0.00000
PRODUCTION_DATE: 1997 11 16
RASTER_ORDER: LEFT_RIGHT/TOP_BOTTOM
BAND_ORGANIZATION: SINGLE FILE
BAND_CONTENT: BLACK&WHITE
BAND_CONTENT: UNDEFINED
BAND_CONTENT: UNDEFINED
BITS_PER_PIXEL: 8
SAMPLES_AND_LINES: 5573 7549
HORIZONTAL_DATUM: NAD83
HORIZONTAL_COORDINATE_SYSTEM: UTM
COORDINATE_ZONE: 13
HORIZONTAL_UNITS: METERS
HORIZONTAL_RESOLUTION: 1.00000
SECONDARY_HORIZONTAL_DATUM: NAD27
XY_ORIGIN: 489806.50000 4990199.50000
SECONDARY_XY_ORIGIN: 489848.70400 4989983.81400
NATION: US
STATE: MT
STATE: WY
NW_QUAD_CORNER_XY: 490158.80500 4989900.99600
NE_QUAD_CORNER_XY: 495079.40200 4989895.29600
SE_QUAD_CORNERY_XY: 495074.04400 4982952.30000
SW_QUAD_CORNER_XY: 490148.08800 4982958.00000
SECONDARY_NW_QUAD_XY: 490158.51400 4989683.75000
SECONDARY_NE_QUAD_XY: 495079.25700 4989678.05000
SECONDARY_SE_QUAD_XY: 495073.89900 4982735.11000
SECONDARY_SW_QUAD_XY: 490147.79700 4982740.80900
RMSE_XY: 1.53000
IMAGE_SOURCE: BLACK & WHITE FILM
SOURCE_IMAGE_ID: NAPP 3715 4
SOURCE_IMAGE_DATE: 1992 08 30
SOURCE_DEM_DATE: 1970 01 01
AGENCY: WESTERN MAPPING CENTER (WMC)
PRODUCER: NIES MAPPING GROUP, INC.
PRODUCTION_SYSTEM: INTERGRAPH MODEL_SETUP, BASE_RECTIFIER
COMPRESSION: UNDEFINED
STANDARD_VERSION: 1996 12
METADATA_DATE: 1997 11 16
DATA_FILE_SIZE: 42076150
BYTE_COUNT: 5573
