FILENAME: O4510559.NES.840614.tif
QUADRANGLE_NAME: THREE BAR RANCH
QUADRANT: NE
WEST_LONGITUDE: -105 41 15.00000
EAST_LONGITUDE: -105 37 30.00000
NORTH_LATITUDE: 45 7 30.00000
SOUTH_LATITUDE: 45 3 45.00000
PRODUCTION_DATE: 1997 11 16
RASTER_ORDER: LEFT_RIGHT/TOP_BOTTOM
BAND_ORGANIZATION: SINGLE FILE
BAND_CONTENT: BLACK&WHITE
BAND_CONTENT: UNDEFINED
BAND_CONTENT: UNDEFINED
BITS_PER_PIXEL: 8
SAMPLES_AND_LINES: 5617 7583
HORIZONTAL_DATUM: NAD83
HORIZONTAL_COORDINATE_SYSTEM: UTM
COORDINATE_ZONE: 13
HORIZONTAL_UNITS: METERS
HORIZONTAL_RESOLUTION: 1.00000
SECONDARY_HORIZONTAL_DATUM: NAD27
XY_ORIGIN: 445530.50000 4997365.50000
SECONDARY_XY_ORIGIN: 445572.88100 4997149.26900
NATION: US
STATE: MT
NW_QUAD_CORNER_XY: 445932.43400 4997066.34700
NE_QUAD_CORNER_XY: 450847.66700 4997026.45000
SE_QUAD_CORNERY_XY: 450794.02300 4990083.37800
SW_QUAD_CORNER_XY: 445873.42600 4990123.27600
SECONDARY_NW_QUAD_XY: 445930.83400 4996849.05300
SECONDARY_NE_QUAD_XY: 450846.21200 4996809.15500
SECONDARY_SE_QUAD_XY: 450792.56900 4989866.13800
SECONDARY_SW_QUAD_XY: 445871.82600 4989906.03600
RMSE_XY: 1.01000
IMAGE_SOURCE: BLACK & WHITE FILM
SOURCE_IMAGE_ID: NAPP 3698 30
SOURCE_IMAGE_DATE: 1991 07 02
SOURCE_DEM_DATE: 1997 01 01
AGENCY: WESTERN MAPPING CENTER (WMC)
PRODUCER: NIES MAPPING GROUP, INC.
PRODUCTION_SYSTEM: INTERGRAPH MODEL_SETUP, BASE_RECTIFIER
COMPRESSION: UNDEFINED
STANDARD_VERSION: 1996 12
METADATA_DATE: 1997 11 16
DATA_FILE_SIZE: 42599328
BYTE_COUNT: 5617
