FILENAME: O4510556.SES.1167591.tif
QUADRANGLE_NAME: BELLE CREEK NORTH
QUADRANT: SE
WEST_LONGITUDE: -105 3 45.00000
EAST_LONGITUDE: -105 0 0.00000
NORTH_LATITUDE: 45 11 15.00000
SOUTH_LATITUDE: 45 7 30.00000
PRODUCTION_DATE: 2001 11 16
RASTER_ORDER: LEFT_RIGHT/TOP_BOTTOM
BAND_ORGANIZATION: SINGLE FILE
BAND_CONTENT: BLACK&WHITE
BAND_CONTENT: UNDEFINED
BAND_CONTENT: UNDEFINED
BITS_PER_PIXEL: 8
SAMPLES_AND_LINES: 5560 7550
HORIZONTAL_DATUM: NAD83
HORIZONTAL_COORDINATE_SYSTEM: UTM
COORDINATE_ZONE: 13
HORIZONTAL_UNITS: METERS
HORIZONTAL_RESOLUTION: 1.00000
SECONDARY_HORIZONTAL_DATUM: NAD27
XY_ORIGIN: 494742.00000 5004083.00000
SECONDARY_XY_ORIGIN: 494784.00000 5003868.00000
NATION: US
STATE: MT
NW_QUAD_CORNER_XY: 495090.13700 5003781.51700
NE_QUAD_CORNER_XY: 500000.00000 5003779.61700
SE_QUAD_CORNERY_XY: 500000.00000 4996836.46900
SW_QUAD_CORNER_XY: 495084.76600 4996838.36800
SECONDARY_NW_QUAD_XY: 495089.99100 5003564.16300
SECONDARY_NE_QUAD_XY: 500000.00000 5003562.26300
SECONDARY_SE_QUAD_XY: 500000.00000 4996619.16800
SECONDARY_SW_QUAD_XY: 495084.62100 4996621.06800
RMSE_XY: 0.70000
IMAGE_SOURCE: BLACK AND WHITE FILM
SOURCE_IMAGE_ID: NAPP 9119 61
SOURCE_IMAGE_DATE: 1996 8 26
SOURCE_DEM_DATE: 1969 00 00
AGENCY: ROCKY MOUNTAIN MAPPING CENTER (RMMC)
PRODUCER: ROCKY MOUNTAIN MAPPING CENTER (RMMC)
PRODUCTION_SYSTEM: DV2.6.4 1/00 OV2.6 6/00
COMPRESSION: UNDEFINED
STANDARD_VERSION: 1996 12
METADATA_DATE: 2001 11 16
DATA_FILE_SIZE: 41983560
BYTE_COUNT: 5560
