FILENAME: O4510548.NWS.1167586.tif
QUADRANGLE_NAME: BOYES
QUADRANT: NW
WEST_LONGITUDE: -105 7 30.00000
EAST_LONGITUDE: -105 3 45.00000
NORTH_LATITUDE: 45 22 30.00000
SOUTH_LATITUDE: 45 18 45.00000
PRODUCTION_DATE: 2001 11 16
RASTER_ORDER: LEFT_RIGHT/TOP_BOTTOM
BAND_ORGANIZATION: SINGLE FILE
BAND_CONTENT: BLACK&WHITE
BAND_CONTENT: UNDEFINED
BAND_CONTENT: UNDEFINED
BITS_PER_PIXEL: 8
SAMPLES_AND_LINES: 5549 7553
HORIZONTAL_DATUM: NAD83
HORIZONTAL_COORDINATE_SYSTEM: UTM
COORDINATE_ZONE: 13
HORIZONTAL_UNITS: METERS
HORIZONTAL_RESOLUTION: 1.00000
SECONDARY_HORIZONTAL_DATUM: NAD27
XY_ORIGIN: 489859.00000 5024918.00000
SECONDARY_XY_ORIGIN: 489900.77400 5024701.55800
NATION: US
STATE: MT
NW_QUAD_CORNER_XY: 490212.56400 5024617.11900
NE_QUAD_CORNER_XY: 495106.28200 5024611.42000
SE_QUAD_CORNERY_XY: 495100.89400 5017668.04300
SW_QUAD_CORNER_XY: 490201.78900 5017673.74200
SECONDARY_NW_QUAD_XY: 490212.27300 5024399.61100
SECONDARY_NE_QUAD_XY: 495106.13600 5024393.91100
SECONDARY_SE_QUAD_XY: 495100.74900 5017450.58500
SECONDARY_SW_QUAD_XY: 490201.49700 5017456.28400
RMSE_XY: 1.80000
IMAGE_SOURCE: BLACK AND WHITE FILM
SOURCE_IMAGE_ID: NAPP 9119 78
SOURCE_IMAGE_DATE: 1996 8 26
SOURCE_DEM_DATE: 1973 00 00
AGENCY: ROCKY MOUNTAIN MAPPING CENTER (RMMC)
PRODUCER: ROCKY MOUNTAIN MAPPING CENTER (RMMC)
PRODUCTION_SYSTEM: DV2.6.4 1/00 OV2.6 6/00
COMPRESSION: UNDEFINED
STANDARD_VERSION: 1996 12
METADATA_DATE: 2001 11 16
DATA_FILE_SIZE: 41917146
BYTE_COUNT: 5549
